BEGIN_USGS_DOQ_HEADER *
QUADRANGLE_NAME "STRATFORD" *
QUADRANT NW *
NORTH_LATITUDE 36 15 00.000 *
WEST_LONGITUDE -119 52 30.000 *
SOUTH_LATITUDE 36 11 15.000 *
EAST_LONGITUDE -119 48 45.000 *
PRODUCTION_DATE 1998 11 23 *
RASTER_ORDER LEFT_RIGHT/TOP_BOTTOM *
BAND_ORGANIZATION "SINGLE FILE" *
BAND_CONTENT BLACK&WHITE *
BITS_PER_PIXEL 8 *
SAMPLES_AND_LINES 6540 7740 *
HORIZONTAL_DATUM NAD83 *
HORIZONTAL_COORDINATE_SYSTEM UTM *
COORDINATE_ZONE 11 *
HORIZONTAL_UNITS METERS *
HORIZONTAL_RESOLUTION 1.000 *
SECONDARY_HORIZONTAL_DATUM NAD27 *
XY_ORIGIN 241050.000 4015830.000 *
SECONDARY_XY_ORIGIN 241130.953 4015631.721 *
NATION US *
STATE CA *
NW_QUAD_CORNER_XY 241670.508 4015511.984 *
NE_QUAD_CORNER_XY 247287.749 4015346.990 *
SE_QUAD_CORNER_XY 247086.442 4008412.032 *
SW_QUAD_CORNER_XY 241464.717 4008576.912 *
SECONDARY_NW_QUAD_XY 241664.331 4015310.906 *
SECONDARY_NE_QUAD_XY 247281.706 4015145.908 *
SECONDARY_SE_QUAD_XY 247080.405 4008211.122 *
SECONDARY_SW_QUAD_XY 241458.546 4008376.006 *
RMSE_XY 0.774 *
IMAGE_SOURCE "BLACK AND WHITE FILM" *
SOURCE_IMAGE_ID "NAPP 6916 158" *
SOURCE_IMAGE_DATE 1994 05 02 *
SOURCE_DEM_DATE 1954 00 00 *
AGENCY "WESTERN MAPPING CENTER (WMC)" *
PRODUCER "ANALYTICAL SURVEYS INC." *
PRODUCTION_SYSTEM "ORBIT OR_RECTIFY V.5.2" *
STANDARD_VERSION 1996 12 *
METADATA_DATE 1998 11 24 *
DATA_FILE_SIZE 50626140 *
BYTE_COUNT 6540 * * * * * * * * * * * * * * * * * * * * * * * * * * * * * * * * * * * * * * *
END_USGS_HEADER *
