BEGIN_USGS_DOQ_HEADER *
QUADRANGLE_NAME "STRATFORD" *
QUADRANT SE *
NORTH_LATITUDE 36 11 15.000 *
WEST_LONGITUDE -119 48 45.000 *
SOUTH_LATITUDE 36 07 30.000 *
EAST_LONGITUDE -119 45 00.000 *
PRODUCTION_DATE 1998 11 23 *
RASTER_ORDER LEFT_RIGHT/TOP_BOTTOM *
BAND_ORGANIZATION "SINGLE FILE" *
BAND_CONTENT BLACK&WHITE *
BITS_PER_PIXEL 8 *
SAMPLES_AND_LINES 6540 7710 *
HORIZONTAL_DATUM NAD83 *
HORIZONTAL_COORDINATE_SYSTEM UTM *
COORDINATE_ZONE 11 *
HORIZONTAL_UNITS METERS *
HORIZONTAL_RESOLUTION 1.000 *
SECONDARY_HORIZONTAL_DATUM NAD27 *
XY_ORIGIN 246480.000 4008720.000 *
SECONDARY_XY_ORIGIN 246560.937 4008521.981 *
NATION US *
STATE CA *
NW_QUAD_CORNER_XY 247086.442 4008412.032 *
NE_QUAD_CORNER_XY 252708.076 4008250.785 *
SE_QUAD_CORNER_XY 252511.548 4001315.994 *
SW_QUAD_CORNER_XY 246885.438 4001477.129 *
SECONDARY_NW_QUAD_XY 247080.405 4008211.122 *
SECONDARY_NE_QUAD_XY 252702.173 4008049.871 *
SECONDARY_SE_QUAD_XY 252505.650 4001115.254 *
SECONDARY_SW_QUAD_XY 246879.405 4001276.393 *
RMSE_XY 0.723 *
IMAGE_SOURCE "BLACK AND WHITE FILM" *
SOURCE_IMAGE_ID "NAPP 6916 181" *
SOURCE_IMAGE_DATE 1994 05 02 *
SOURCE_DEM_DATE 1954 00 00 *
AGENCY "WESTERN MAPPING CENTER (WMC)" *
PRODUCER "ANALYTICAL SURVEYS INC." *
PRODUCTION_SYSTEM "ORBIT OR_RECTIFY V.5.2" *
STANDARD_VERSION 1996 12 *
METADATA_DATE 1998 11 24 *
DATA_FILE_SIZE 50429940 *
BYTE_COUNT 6540 *
*
*
*
*
*
*
*
*
*
*
*
*
*
*
*
*
*
*
*
*
*
*
*
*
*
*
*
*
*
*
*
*
*
*
*
*
*
*
END_USGS_HEADER *