BEGIN_USGS_DOQ_HEADER *
QUADRANGLE_NAME "WESTHAVEN" *
QUADRANT NW *
NORTH_LATITUDE 36 15 00.000 *
WEST_LONGITUDE -120 00 00.000 *
SOUTH_LATITUDE 36 11 15.000 *
EAST_LONGITUDE -119 56 15.000 *
PRODUCTION_DATE 1998 11 23 *
RASTER_ORDER LEFT_RIGHT/TOP_BOTTOM *
BAND_ORGANIZATION "SINGLE FILE" *
BAND_CONTENT BLACK&WHITE *
BITS_PER_PIXEL 8 *
SAMPLES_AND_LINES 6540 7740 *
HORIZONTAL_DATUM NAD83 *
HORIZONTAL_COORDINATE_SYSTEM UTM *
COORDINATE_ZONE 11 *
HORIZONTAL_UNITS METERS *
HORIZONTAL_RESOLUTION 1.000 *
SECONDARY_HORIZONTAL_DATUM NAD27 *
XY_ORIGIN 229830.000 4016160.000 *
SECONDARY_XY_ORIGIN 229911.000 4015961.449 *
NATION US *
STATE CA *
NW_QUAD_CORNER_XY 230435.746 4015852.877 *
NE_QUAD_CORNER_XY 236053.174 4015680.612 *
SE_QUAD_CORNER_XY 235842.899 4008745.424 *
SW_QUAD_CORNER_XY 230220.984 4008917.569 *
SECONDARY_NW_QUAD_XY 230429.300 4015651.807 *
SECONDARY_NE_QUAD_XY 236046.863 4015479.538 *
SECONDARY_SE_QUAD_XY 235836.593 4008544.522 *
SECONDARY_SW_QUAD_XY 230214.544 4008716.672 *
RMSE_XY 1.981 *
IMAGE_SOURCE "BLACK AND WHITE FILM" *
SOURCE_IMAGE_ID "NAPP 6919 209" *
SOURCE_IMAGE_DATE 1994 05 11 *
SOURCE_DEM_DATE 1981 00 00 *
AGENCY "WESTERN MAPPING CENTER (WMC)" *
PRODUCER "ANALYTICAL SURVEYS INC." *
PRODUCTION_SYSTEM "ORBIT OR_RECTIFY V.5.2" *
STANDARD_VERSION 1996 12 *
METADATA_DATE 1998 11 24 *
DATA_FILE_SIZE 50626140 *
BYTE_COUNT 6540 * * * * * * * * * * * * * * * * * * * * * * * * * * * * * * * * * * * * * * *
END_USGS_HEADER *
