BEGIN_USGS_DOQ_HEADER *
QUADRANGLE_NAME "WESTHAVEN" *
QUADRANT SW *
NORTH_LATITUDE 36 11 15.000 *
WEST_LONGITUDE -120 00 00.000 *
SOUTH_LATITUDE 36 07 30.000 *
EAST_LONGITUDE -119 56 15.000 *
PRODUCTION_DATE 1998 11 23 *
RASTER_ORDER LEFT_RIGHT/TOP_BOTTOM *
BAND_ORGANIZATION "SINGLE FILE" *
BAND_CONTENT BLACK&WHITE *
BITS_PER_PIXEL 8 *
SAMPLES_AND_LINES 6570 7740 *
HORIZONTAL_DATUM NAD83 *
HORIZONTAL_COORDINATE_SYSTEM UTM *
COORDINATE_ZONE 11 *
HORIZONTAL_UNITS METERS *
HORIZONTAL_RESOLUTION 1.000 *
SECONDARY_HORIZONTAL_DATUM NAD27 *
XY_ORIGIN 229590.000 4009230.000 *
SECONDARY_XY_ORIGIN 229670.986 4009031.611 *
NATION US *
STATE CA *
NW_QUAD_CORNER_XY 230220.984 4008917.569 *
NE_QUAD_CORNER_XY 235842.899 4008745.424 *
SE_QUAD_CORNER_XY 235632.938 4001810.289 *
SW_QUAD_CORNER_XY 230006.544 4001982.314 *
SECONDARY_NW_QUAD_XY 230214.544 4008716.672 *
SECONDARY_NE_QUAD_XY 235836.593 4008544.522 *
SECONDARY_SE_QUAD_XY 235626.637 4001609.560 *
SECONDARY_SW_QUAD_XY 230000.109 4001781.590 *
RMSE_XY 1.216 *
IMAGE_SOURCE "BLACK AND WHITE FILM" *
SOURCE_IMAGE_ID "NAPP 6919 207" *
SOURCE_IMAGE_DATE 1994 05 11 *
SOURCE_DEM_DATE 1981 00 00 *
AGENCY "WESTERN MAPPING CENTER (WMC)" *
PRODUCER "ANALYTICAL SURVEYS INC." *
PRODUCTION_SYSTEM "ORBIT OR_RECTIFY V.5.2" *
STANDARD_VERSION 1996 12 *
METADATA_DATE 1998 11 24 *
DATA_FILE_SIZE 50858370 *
BYTE_COUNT 6570 * * * * * * * * * * * * * * * * * * * * * * * * * * * * * * * * * * * * * * * *
END_USGS_HEADER *
