BEGIN_USGS_DOQ_HEADER *
QUADRANGLE_NAME "ROCKY HILL" *
QUADRANT NE *
NORTH_LATITUDE 36 22 30.000 *
WEST_LONGITUDE -119 03 45.000 *
SOUTH_LATITUDE 36 18 45.000 *
EAST_LONGITUDE -119 00 00.000 *
PRODUCTION_DATE 1998 12 01 *
RASTER_ORDER LEFT_RIGHT/TOP_BOTTOM *
BAND_ORGANIZATION "SINGLE FILE" *
BAND_CONTENT BLACK&WHITE *
BITS_PER_PIXEL 8 *
SAMPLES_AND_LINES 6480 7680 *
HORIZONTAL_DATUM NAD83 *
HORIZONTAL_COORDINATE_SYSTEM UTM *
COORDINATE_ZONE 11 *
HORIZONTAL_UNITS METERS *
HORIZONTAL_RESOLUTION 1.000 *
SECONDARY_HORIZONTAL_DATUM NAD27 *
XY_ORIGIN 314430.000 4027830.000 *
SECONDARY_XY_ORIGIN 314509.840 4027632.324 *
NATION US *
STATE CA *
NW_QUAD_CORNER_XY 314983.863 4027518.179 *
NE_QUAD_CORNER_XY 320591.105 4027400.235 *
SE_QUAD_CORNER_XY 320447.608 4020466.404 *
SW_QUAD_CORNER_XY 314835.877 4020584.268 *
SECONDARY_NW_QUAD_XY 314979.426 4027316.714 *
SECONDARY_NE_QUAD_XY 320586.802 4027198.766 *
SECONDARY_SE_QUAD_XY 320443.309 4020265.107 *
SECONDARY_SW_QUAD_XY 314831.444 4020382.974 *
RMSE_XY 1.060 *
IMAGE_SOURCE "BLACK AND WHITE FILM" *
SOURCE_IMAGE_ID "NAPP 6921 283" *
SOURCE_IMAGE_DATE 1994 09 03 *
SOURCE_DEM_DATE 1969 00 00 *
AGENCY "WESTERN MAPPING CENTER (WMC)" *
PRODUCER "ANALYTICAL SURVEYS INC." *
PRODUCTION_SYSTEM "ORBIT OR_RECTIFY V.5.2" *
STANDARD_VERSION 1996 12 *
METADATA_DATE 1998 12 03 *
DATA_FILE_SIZE 49772880 *
BYTE_COUNT 6480 * * * * * * * * * * * * * * * * * * * * * * * * * * * * * * * * * * * * * *
END_USGS_HEADER *
