BEGIN_USGS_DOQ_HEADER *
QUADRANGLE_NAME "ROCKY HILL" *
QUADRANT NW *
NORTH_LATITUDE 36 22 30.000 *
WEST_LONGITUDE -119 07 30.000 *
SOUTH_LATITUDE 36 18 45.000 *
EAST_LONGITUDE -119 03 45.000 *
PRODUCTION_DATE 1998 12 01 *
RASTER_ORDER LEFT_RIGHT/TOP_BOTTOM *
BAND_ORGANIZATION "SINGLE FILE" *
BAND_CONTENT BLACK&WHITE *
BITS_PER_PIXEL 8 *
SAMPLES_AND_LINES 6480 7680 *
HORIZONTAL_DATUM NAD83 *
HORIZONTAL_COORDINATE_SYSTEM UTM *
COORDINATE_ZONE 11 *
HORIZONTAL_UNITS METERS *
HORIZONTAL_RESOLUTION 1.000 *
SECONDARY_HORIZONTAL_DATUM NAD27 *
XY_ORIGIN 308820.000 4027950.000 *
SECONDARY_XY_ORIGIN 308899.945 4027752.233 *
NATION US *
STATE CA *
NW_QUAD_CORNER_XY 309376.556 4027639.757 *
NE_QUAD_CORNER_XY 314983.863 4027518.179 *
SE_QUAD_CORNER_XY 314835.877 4020584.268 *
SW_QUAD_CORNER_XY 309224.080 4020705.764 *
SECONDARY_NW_QUAD_XY 309371.984 4027438.295 *
SECONDARY_NE_QUAD_XY 314979.426 4027316.714 *
SECONDARY_SE_QUAD_XY 314831.444 4020382.974 *
SECONDARY_SW_QUAD_XY 309219.512 4020504.472 *
RMSE_XY 0.759 *
IMAGE_SOURCE "BLACK AND WHITE FILM" *
SOURCE_IMAGE_ID "NAPP 6927 107" *
SOURCE_IMAGE_DATE 1994 09 04 *
SOURCE_DEM_DATE 1969 00 00 *
AGENCY "WESTERN MAPPING CENTER (WMC)" *
PRODUCER "ANALYTICAL SURVEYS INC." *
PRODUCTION_SYSTEM "ORBIT OR_RECTIFY V.5.2" *
STANDARD_VERSION 1996 12 *
METADATA_DATE 1998 12 03 *
DATA_FILE_SIZE 49772880 *
BYTE_COUNT 6480 * * * * * * * * * * * * * * * * * * * * * * * * * * * * * * * * * * * * * *
END_USGS_HEADER *
