BEGIN_USGS_DOQ_HEADER *
QUADRANGLE_NAME "ROCKY HILL" *
QUADRANT SW *
NORTH_LATITUDE 36 18 45.000 *
WEST_LONGITUDE -119 07 30.000 *
SOUTH_LATITUDE 36 15 00.000 *
EAST_LONGITUDE -119 03 45.000 *
PRODUCTION_DATE 1998 12 01 *
RASTER_ORDER LEFT_RIGHT/TOP_BOTTOM *
BAND_ORGANIZATION "SINGLE FILE" *
BAND_CONTENT BLACK&WHITE *
BITS_PER_PIXEL 8 *
SAMPLES_AND_LINES 6480 7680 *
HORIZONTAL_DATUM NAD83 *
HORIZONTAL_COORDINATE_SYSTEM UTM *
COORDINATE_ZONE 11 *
HORIZONTAL_UNITS METERS *
HORIZONTAL_RESOLUTION 1.000 *
SECONDARY_HORIZONTAL_DATUM NAD27 *
XY_ORIGIN 308670.000 4021020.000 *
SECONDARY_XY_ORIGIN 308749.968 4020822.376 *
NATION US *
STATE CA *
NW_QUAD_CORNER_XY 309224.080 4020705.764 *
NE_QUAD_CORNER_XY 314835.877 4020584.268 *
SE_QUAD_CORNER_XY 314688.112 4013650.421 *
SW_QUAD_CORNER_XY 309071.830 4013771.833 *
SECONDARY_NW_QUAD_XY 309219.512 4020504.472 *
SECONDARY_NE_QUAD_XY 314831.444 4020382.974 *
SECONDARY_SE_QUAD_XY 314683.682 4013449.298 *
SECONDARY_SW_QUAD_XY 309067.266 4013570.713 *
RMSE_XY 0.832 *
IMAGE_SOURCE "BLACK AND WHITE FILM" *
SOURCE_IMAGE_ID "NAPP 6927 109" *
SOURCE_IMAGE_DATE 1994 09 04 *
SOURCE_DEM_DATE 1969 00 00 *
AGENCY "WESTERN MAPPING CENTER (WMC)" *
PRODUCER "ANALYTICAL SURVEYS INC." *
PRODUCTION_SYSTEM "ORBIT OR_RECTIFY V.5.2" *
STANDARD_VERSION 1996 12 *
METADATA_DATE 1998 12 03 *
DATA_FILE_SIZE 49772880 *
BYTE_COUNT 6480 * * * * * * * * * * * * * * * * * * * * * * * * * * * * * * * * * * * * * *
END_USGS_HEADER *
