BEGIN_USGS_DOQ_HEADER *
QUADRANGLE_NAME "EXETER" *
QUADRANT NW *
NORTH_LATITUDE 36 22 30.000 *
WEST_LONGITUDE -119 15 00.000 *
SOUTH_LATITUDE 36 18 45.000 *
EAST_LONGITUDE -119 11 15.000 *
PRODUCTION_DATE 1998 11 30 *
RASTER_ORDER LEFT_RIGHT/TOP_BOTTOM *
BAND_ORGANIZATION "SINGLE FILE" *
BAND_CONTENT BLACK&WHITE *
BITS_PER_PIXEL 8 *
SAMPLES_AND_LINES 6480 7710 *
HORIZONTAL_DATUM NAD83 *
HORIZONTAL_COORDINATE_SYSTEM UTM *
COORDINATE_ZONE 11 *
HORIZONTAL_UNITS METERS *
HORIZONTAL_RESOLUTION 1.000 *
SECONDARY_HORIZONTAL_DATUM NAD27 *
XY_ORIGIN 297600.000 4028220.000 *
SECONDARY_XY_ORIGIN 297680.154 4028022.048 *
NATION US *
STATE CA *
NW_QUAD_CORNER_XY 298161.736 4027893.817 *
NE_QUAD_CORNER_XY 303769.181 4027764.970 *
SE_QUAD_CORNER_XY 303612.214 4020830.891 *
SW_QUAD_CORNER_XY 298000.277 4020959.650 *
SECONDARY_NW_QUAD_XY 298156.896 4027692.360 *
SECONDARY_NE_QUAD_XY 303764.475 4027563.510 *
SECONDARY_SE_QUAD_XY 303607.511 4020629.602 *
SECONDARY_SW_QUAD_XY 297995.441 4020758.364 *
RMSE_XY 0.730 *
IMAGE_SOURCE "BLACK AND WHITE FILM" *
SOURCE_IMAGE_ID "NAPP 6922 8" *
SOURCE_IMAGE_DATE 1994 05 21 *
SOURCE_DEM_DATE 1969 00 00 *
AGENCY "WESTERN MAPPING CENTER (WMC)" *
PRODUCER "ANALYTICAL SURVEYS INC." *
PRODUCTION_SYSTEM "ORBIT OR_RECTIFY V.5.2" *
STANDARD_VERSION 1996 12 *
METADATA_DATE 1998 12 03 *
DATA_FILE_SIZE 49967280 *
BYTE_COUNT 6480 * * * * * * * * * * * * * * * * * * * * * * * * * * * * * * * * * * * * * *
END_USGS_HEADER *
