BEGIN_USGS_DOQ_HEADER *
QUADRANGLE_NAME "EXETER" *
QUADRANT SE *
NORTH_LATITUDE 36 18 45.000 *
WEST_LONGITUDE -119 11 15.000 *
SOUTH_LATITUDE 36 15 00.000 *
EAST_LONGITUDE -119 07 30.000 *
PRODUCTION_DATE 1998 11 30 *
RASTER_ORDER LEFT_RIGHT/TOP_BOTTOM *
BAND_ORGANIZATION "SINGLE FILE" *
BAND_CONTENT BLACK&WHITE *
BITS_PER_PIXEL 8 *
SAMPLES_AND_LINES 6480 7680 *
HORIZONTAL_DATUM NAD83 *
HORIZONTAL_COORDINATE_SYSTEM UTM *
COORDINATE_ZONE 11 *
HORIZONTAL_UNITS METERS *
HORIZONTAL_RESOLUTION 1.000 *
SECONDARY_HORIZONTAL_DATUM NAD27 *
XY_ORIGIN 303060.000 4021140.000 *
SECONDARY_XY_ORIGIN 303140.077 4020942.288 *
NATION US *
STATE CA *
NW_QUAD_CORNER_XY 303612.214 4020830.891 *
NE_QUAD_CORNER_XY 309224.080 4020705.764 *
SE_QUAD_CORNER_XY 309071.830 4013771.833 *
SW_QUAD_CORNER_XY 303455.480 4013896.874 *
SECONDARY_NW_QUAD_XY 303607.511 4020629.602 *
SECONDARY_NE_QUAD_XY 309219.512 4020504.472 *
SECONDARY_SE_QUAD_XY 309067.266 4013570.713 *
SECONDARY_SW_QUAD_XY 303450.782 4013695.757 *
RMSE_XY 0.830 *
IMAGE_SOURCE "BLACK AND WHITE FILM" *
SOURCE_IMAGE_ID "NAPP 6927 89" *
SOURCE_IMAGE_DATE 1994 09 04 *
SOURCE_DEM_DATE 1969 00 00 *
AGENCY "WESTERN MAPPING CENTER (WMC)" *
PRODUCER "ANALYTICAL SURVEYS INC." *
PRODUCTION_SYSTEM "ORBIT OR_RECTIFY V.5.2" *
STANDARD_VERSION 1996 12 *
METADATA_DATE 1998 12 03 *
DATA_FILE_SIZE 49772880 *
BYTE_COUNT 6480 *
*
*
*
*
*
*
*
*
*
*
*
*
*
*
*
*
*
*
*
*
*
*
*
*
*
*
*
*
*
*
*
*
*
*
*
*
*
END_USGS_HEADER *