BEGIN_USGS_DOQ_HEADER *
QUADRANGLE_NAME "VISALIA" *
QUADRANT NE *
NORTH_LATITUDE 36 22 30.000 *
WEST_LONGITUDE -119 18 45.000 *
SOUTH_LATITUDE 36 18 45.000 *
EAST_LONGITUDE -119 15 00.000 *
PRODUCTION_DATE 1998 11 24 *
RASTER_ORDER LEFT_RIGHT/TOP_BOTTOM *
BAND_ORGANIZATION "SINGLE FILE" *
BAND_CONTENT BLACK&WHITE *
BITS_PER_PIXEL 8 *
SAMPLES_AND_LINES 6480 7710 *
HORIZONTAL_DATUM NAD83 *
HORIZONTAL_COORDINATE_SYSTEM UTM *
COORDINATE_ZONE 11 *
HORIZONTAL_UNITS METERS *
HORIZONTAL_RESOLUTION 1.000 *
SECONDARY_HORIZONTAL_DATUM NAD27 *
XY_ORIGIN 291990.000 4028340.000 *
SECONDARY_XY_ORIGIN 292070.293 4028141.991 *
NATION US *
STATE CA *
NW_QUAD_CORNER_XY 292554.220 4028026.299 *
NE_QUAD_CORNER_XY 298161.736 4027893.817 *
SE_QUAD_CORNER_XY 298000.277 4020959.650 *
SW_QUAD_CORNER_XY 292388.269 4021092.041 *
SECONDARY_NW_QUAD_XY 292549.244 4027824.845 *
SECONDARY_NE_QUAD_XY 298156.896 4027692.360 *
SECONDARY_SE_QUAD_XY 297995.441 4020758.364 *
SECONDARY_SW_QUAD_XY 292383.298 4020890.759 *
RMSE_XY 0.655 *
IMAGE_SOURCE "BLACK AND WHITE FILM" *
SOURCE_IMAGE_ID "NAPP 6927 7" *
SOURCE_IMAGE_DATE 1994 09 04 *
SOURCE_DEM_DATE 1969 00 00 *
AGENCY "WESTERN MAPPING CENTER (WMC)" *
PRODUCER "ANALYTICAL SURVEYS INC." *
PRODUCTION_SYSTEM "ORBIT OR_RECTIFY V.5.2" *
STANDARD_VERSION 1996 12 *
METADATA_DATE 1998 11 24 *
DATA_FILE_SIZE 49967280 *
BYTE_COUNT 6480 * * * * * * * * * * * * * * * * * * * * * * * * * * * * * * * * * * * * * *
END_USGS_HEADER *
