BEGIN_USGS_DOQ_HEADER *
QUADRANGLE_NAME "VISALIA" *
QUADRANT SE *
NORTH_LATITUDE 36 18 45.000 *
WEST_LONGITUDE -119 18 45.000 *
SOUTH_LATITUDE 36 15 00.000 *
EAST_LONGITUDE -119 15 00.000 *
PRODUCTION_DATE 1998 11 24 *
RASTER_ORDER LEFT_RIGHT/TOP_BOTTOM *
BAND_ORGANIZATION "SINGLE FILE" *
BAND_CONTENT BLACK&WHITE *
BITS_PER_PIXEL 8 *
SAMPLES_AND_LINES 6510 7710 *
HORIZONTAL_DATUM NAD83 *
HORIZONTAL_COORDINATE_SYSTEM UTM *
COORDINATE_ZONE 11 *
HORIZONTAL_UNITS METERS *
HORIZONTAL_RESOLUTION 1.000 *
SECONDARY_HORIZONTAL_DATUM NAD27 *
XY_ORIGIN 291810.000 4021410.000 *
SECONDARY_XY_ORIGIN 291890.316 4021212.156 *
NATION US *
STATE CA *
NW_QUAD_CORNER_XY 292388.269 4021092.041 *
NE_QUAD_CORNER_XY 298000.277 4020959.650 *
SE_QUAD_CORNER_XY 297839.060 4014025.544 *
SW_QUAD_CORNER_XY 292222.566 4014157.845 *
SECONDARY_NW_QUAD_XY 292383.298 4020890.759 *
SECONDARY_NE_QUAD_XY 297995.441 4020758.364 *
SECONDARY_SE_QUAD_XY 297834.227 4013824.430 *
SECONDARY_SW_QUAD_XY 292217.599 4013956.734 *
RMSE_XY 0.911 *
IMAGE_SOURCE "BLACK AND WHITE FILM" *
SOURCE_IMAGE_ID "NAPP 6927 9" *
SOURCE_IMAGE_DATE 1994 09 04 *
SOURCE_DEM_DATE 1969 00 00 *
AGENCY "WESTERN MAPPING CENTER (WMC)" *
PRODUCER "ANALYTICAL SURVEYS INC." *
PRODUCTION_SYSTEM "ORBIT OR_RECTIFY V.5.2" *
STANDARD_VERSION 1996 12 *
METADATA_DATE 1998 11 24 *
DATA_FILE_SIZE 50198610 *
BYTE_COUNT 6510 * * * * * * * * * * * * * * * * * * * * * * * * * * * * * * * * * * * * * * *
END_USGS_HEADER *
