BEGIN_USGS_DOQ_HEADER *
QUADRANGLE_NAME "GOSHEN" *
QUADRANT NE *
NORTH_LATITUDE 36 22 30.000 *
WEST_LONGITUDE -119 26 15.000 *
SOUTH_LATITUDE 36 18 45.000 *
EAST_LONGITUDE -119 22 30.000 *
PRODUCTION_DATE 1998 11 24 *
RASTER_ORDER LEFT_RIGHT/TOP_BOTTOM *
BAND_ORGANIZATION "SINGLE FILE" *
BAND_CONTENT BLACK&WHITE *
BITS_PER_PIXEL 8 *
SAMPLES_AND_LINES 6480 7710 *
HORIZONTAL_DATUM NAD83 *
HORIZONTAL_COORDINATE_SYSTEM UTM *
COORDINATE_ZONE 11 *
HORIZONTAL_UNITS METERS *
HORIZONTAL_RESOLUTION 1.000 *
SECONDARY_HORIZONTAL_DATUM NAD27 *
XY_ORIGIN 280770.000 4028610.000 *
SECONDARY_XY_ORIGIN 280850.575 4028411.865 *
NATION US *
STATE CA *
NW_QUAD_CORNER_XY 281338.963 4028302.169 *
NE_QUAD_CORNER_XY 286946.629 4028162.416 *
SE_QUAD_CORNER_XY 286776.186 4021228.066 *
SW_QUAD_CORNER_XY 281164.027 4021367.724 *
SECONDARY_NW_QUAD_XY 281333.719 4028100.723 *
SECONDARY_NE_QUAD_XY 286941.520 4027960.966 *
SECONDARY_SE_QUAD_XY 286771.080 4021026.787 *
SECONDARY_SW_QUAD_XY 281158.787 4021166.448 *
RMSE_XY 1.118 *
IMAGE_SOURCE "BLACK AND WHITE FILM" *
SOURCE_IMAGE_ID "NAPP 6918 222" *
SOURCE_IMAGE_DATE 1994 05 10 *
SOURCE_DEM_DATE 1969 00 00 *
AGENCY "WESTERN MAPPING CENTER (WMC)" *
PRODUCER "ANALYTICAL SURVEYS INC." *
PRODUCTION_SYSTEM "ORBIT OR_RECTIFY V.5.2" *
STANDARD_VERSION 1996 12 *
METADATA_DATE 1998 11 24 *
DATA_FILE_SIZE 49967280 *
BYTE_COUNT 6480 * * * * * * * * * * * * * * * * * * * * * * * * * * * * * * * * * * * * * *
END_USGS_HEADER *
