BEGIN_USGS_DOQ_HEADER *
QUADRANGLE_NAME "GOSHEN" *
QUADRANT SW *
NORTH_LATITUDE 36 18 45.000 *
WEST_LONGITUDE -119 30 00.000 *
SOUTH_LATITUDE 36 15 00.000 *
EAST_LONGITUDE -119 26 15.000 *
PRODUCTION_DATE 1998 11 24 *
RASTER_ORDER LEFT_RIGHT/TOP_BOTTOM *
BAND_ORGANIZATION "SINGLE FILE" *
BAND_CONTENT BLACK&WHITE *
BITS_PER_PIXEL 8 *
SAMPLES_AND_LINES 6510 7710 *
HORIZONTAL_DATUM NAD83 *
HORIZONTAL_COORDINATE_SYSTEM UTM *
COORDINATE_ZONE 11 *
HORIZONTAL_UNITS METERS *
HORIZONTAL_RESOLUTION 1.000 *
SECONDARY_HORIZONTAL_DATUM NAD27 *
XY_ORIGIN 274980.000 4021830.000 *
SECONDARY_XY_ORIGIN 275060.711 4021632.005 *
NATION US *
STATE CA *
NW_QUAD_CORNER_XY 275551.789 4021511.016 *
NE_QUAD_CORNER_XY 281164.027 4021367.724 *
SE_QUAD_CORNER_XY 280989.351 4014433.338 *
SW_QUAD_CORNER_XY 275372.627 4014576.532 *
SECONDARY_NW_QUAD_XY 275546.415 4021309.744 *
SECONDARY_NE_QUAD_XY 281158.787 4021166.448 *
SECONDARY_SE_QUAD_XY 280984.115 4014232.234 *
SECONDARY_SW_QUAD_XY 275367.256 4014375.431 *
RMSE_XY 0.875 *
IMAGE_SOURCE "BLACK AND WHITE FILM" *
SOURCE_IMAGE_ID "NAPP 6918 145" *
SOURCE_IMAGE_DATE 1994 05 10 *
SOURCE_DEM_DATE 1969 00 00 *
AGENCY "WESTERN MAPPING CENTER (WMC)" *
PRODUCER "ANALYTICAL SURVEYS INC." *
PRODUCTION_SYSTEM "ORBIT OR_RECTIFY V.5.2" *
STANDARD_VERSION 1996 12 *
METADATA_DATE 1998 11 24 *
DATA_FILE_SIZE 50198610 *
BYTE_COUNT 6510 * * * * * * * * * * * * * * * * * * * * * * * * * * * * * * * * * * * * * * *
END_USGS_HEADER *
