BEGIN_USGS_DOQ_HEADER *
QUADRANGLE_NAME "REMNOY" *
QUADRANT NW *
NORTH_LATITUDE 36 22 30.000 *
WEST_LONGITUDE -119 37 30.000 *
SOUTH_LATITUDE 36 18 45.000 *
EAST_LONGITUDE -119 33 45.000 *
PRODUCTION_DATE 1998 11 24 *
RASTER_ORDER LEFT_RIGHT/TOP_BOTTOM *
BAND_ORGANIZATION "SINGLE FILE" *
BAND_CONTENT BLACK&WHITE *
BITS_PER_PIXEL 8 *
SAMPLES_AND_LINES 6510 7710 *
HORIZONTAL_DATUM NAD83 *
HORIZONTAL_COORDINATE_SYSTEM UTM *
COORDINATE_ZONE 11 *
HORIZONTAL_UNITS METERS *
HORIZONTAL_RESOLUTION 1.000 *
SECONDARY_HORIZONTAL_DATUM NAD27 *
XY_ORIGIN 263940.000 4029060.000 *
SECONDARY_XY_ORIGIN 264020.857 4028861.717 *
NATION US *
STATE CA *
NW_QUAD_CORNER_XY 264515.491 4028743.250 *
NE_QUAD_CORNER_XY 270123.396 4028592.586 *
SE_QUAD_CORNER_XY 269939.471 4021657.943 *
SW_QUAD_CORNER_XY 264327.071 4021808.504 *
SECONDARY_NW_QUAD_XY 264509.843 4028541.814 *
SECONDARY_NE_QUAD_XY 270117.882 4028391.146 *
SECONDARY_SE_QUAD_XY 269933.962 4021456.674 *
SECONDARY_SW_QUAD_XY 264321.427 4021607.239 *
RMSE_XY 0.840 *
IMAGE_SOURCE "BLACK AND WHITE FILM" *
SOURCE_IMAGE_ID "NAPP 6918 55" *
SOURCE_IMAGE_DATE 1994 05 10 *
SOURCE_DEM_DATE 1954 00 00 *
AGENCY "WESTERN MAPPING CENTER (WMC)" *
PRODUCER "ANALYTICAL SURVEYS INC." *
PRODUCTION_SYSTEM "ORBIT OR_RECTIFY V.5.2" *
STANDARD_VERSION 1996 12 *
METADATA_DATE 1998 11 24 *
DATA_FILE_SIZE 50198610 *
BYTE_COUNT 6510 * * * * * * * * * * * * * * * * * * * * * * * * * * * * * * * * * * * * * * *
END_USGS_HEADER *
