BEGIN_USGS_DOQ_HEADER *
QUADRANGLE_NAME "REMNOY" *
QUADRANT SE *
NORTH_LATITUDE 36 18 45.000 *
WEST_LONGITUDE -119 33 45.000 *
SOUTH_LATITUDE 36 15 00.000 *
EAST_LONGITUDE -119 30 00.000 *
PRODUCTION_DATE 1998 11 24 *
RASTER_ORDER LEFT_RIGHT/TOP_BOTTOM *
BAND_ORGANIZATION "SINGLE FILE" *
BAND_CONTENT BLACK&WHITE *
BITS_PER_PIXEL 8 *
SAMPLES_AND_LINES 6540 7710 *
HORIZONTAL_DATUM NAD83 *
HORIZONTAL_COORDINATE_SYSTEM UTM *
COORDINATE_ZONE 11 *
HORIZONTAL_UNITS METERS *
HORIZONTAL_RESOLUTION 1.000 *
SECONDARY_HORIZONTAL_DATUM NAD27 *
XY_ORIGIN 269340.000 4021980.000 *
SECONDARY_XY_ORIGIN 269420.768 4021781.953 *
NATION US *
STATE CA *
NW_QUAD_CORNER_XY 269939.471 4021657.943 *
NE_QUAD_CORNER_XY 275551.789 4021511.016 *
SE_QUAD_CORNER_XY 275372.627 4014576.532 *
SW_QUAD_CORNER_XY 269755.821 4014723.358 *
SECONDARY_NW_QUAD_XY 269933.962 4021456.674 *
SECONDARY_NE_QUAD_XY 275546.415 4021309.744 *
SECONDARY_SE_QUAD_XY 275367.256 4014375.431 *
SECONDARY_SW_QUAD_XY 269750.316 4014522.260 *
RMSE_XY 0.914 *
IMAGE_SOURCE "BLACK AND WHITE FILM" *
SOURCE_IMAGE_ID "NAPP 6918 130" *
SOURCE_IMAGE_DATE 1994 05 10 *
SOURCE_DEM_DATE 1954 00 00 *
AGENCY "WESTERN MAPPING CENTER (WMC)" *
PRODUCER "ANALYTICAL SURVEYS INC." *
PRODUCTION_SYSTEM "ORBIT OR_RECTIFY V.5.2" *
STANDARD_VERSION 1996 12 *
METADATA_DATE 1998 11 24 *
DATA_FILE_SIZE 50429940 *
BYTE_COUNT 6540 * * * * * * * * * * * * * * * * * * * * * * * * * * * * * * * * * * * * * * *
END_USGS_HEADER *
