BEGIN_USGS_DOQ_HEADER *
QUADRANGLE_NAME "HANFORD" *
QUADRANT NE *
NORTH_LATITUDE 36 22 30.000 *
WEST_LONGITUDE -119 41 15.000 *
SOUTH_LATITUDE 36 18 45.000 *
EAST_LONGITUDE -119 37 30.000 *
PRODUCTION_DATE 1998 11 23 *
RASTER_ORDER LEFT_RIGHT/TOP_BOTTOM *
BAND_ORGANIZATION "SINGLE FILE" *
BAND_CONTENT BLACK&WHITE *
BITS_PER_PIXEL 8 *
SAMPLES_AND_LINES 6540 7710 *
HORIZONTAL_DATUM NAD83 *
HORIZONTAL_COORDINATE_SYSTEM UTM *
COORDINATE_ZONE 11 *
HORIZONTAL_UNITS METERS *
HORIZONTAL_RESOLUTION 1.000 *
SECONDARY_HORIZONTAL_DATUM NAD27 *
XY_ORIGIN 258300.000 4029210.000 *
SECONDARY_XY_ORIGIN 258380.932 4029011.676 *
NATION US *
STATE CA *
NW_QUAD_CORNER_XY 258907.502 4028897.552 *
NE_QUAD_CORNER_XY 264515.491 4028743.250 *
SE_QUAD_CORNER_XY 264327.071 4021808.504 *
SW_QUAD_CORNER_XY 258714.587 4021962.701 *
SECONDARY_NW_QUAD_XY 258901.719 4028696.119 *
SECONDARY_NE_QUAD_XY 264509.843 4028541.814 *
SECONDARY_SE_QUAD_XY 264321.427 4021607.239 *
SECONDARY_SW_QUAD_XY 258708.808 4021761.439 *
RMSE_XY 0.670 *
IMAGE_SOURCE "BLACK AND WHITE FILM" *
SOURCE_IMAGE_ID "NAPP 6918 44" *
SOURCE_IMAGE_DATE 1994 05 10 *
SOURCE_DEM_DATE 1954 00 00 *
AGENCY "WESTERN MAPPING CENTER (WMC)" *
PRODUCER "ANALYTICAL SURVEYS INC." *
PRODUCTION_SYSTEM "ORBIT OR_RECTIFY V.5.2" *
STANDARD_VERSION 1996 12 *
METADATA_DATE 1998 12 02 *
DATA_FILE_SIZE 50429940 *
BYTE_COUNT 6540 * * * * * * * * * * * * * * * * * * * * * * * * * * * * * * * * * * * * * * *
END_USGS_HEADER *
