BEGIN_USGS_DOQ_HEADER *
QUADRANGLE_NAME "LEMOORE" *
QUADRANT SE *
NORTH_LATITUDE 36 18 45.000 *
WEST_LONGITUDE -119 48 45.000 *
SOUTH_LATITUDE 36 15 00.000 *
EAST_LONGITUDE -119 45 00.000 *
PRODUCTION_DATE 1998 11 23 *
RASTER_ORDER LEFT_RIGHT/TOP_BOTTOM *
BAND_ORGANIZATION "SINGLE FILE" *
BAND_CONTENT BLACK&WHITE *
BITS_PER_PIXEL 8 *
SAMPLES_AND_LINES 6510 7740 *
HORIZONTAL_DATUM NAD83 *
HORIZONTAL_COORDINATE_SYSTEM UTM *
COORDINATE_ZONE 11 *
HORIZONTAL_UNITS METERS *
HORIZONTAL_RESOLUTION 1.000 *
SECONDARY_HORIZONTAL_DATUM NAD27 *
XY_ORIGIN 246900.000 4022610.000 *
SECONDARY_XY_ORIGIN 246980.998 4022411.696 *
NATION US *
STATE CA *
NW_QUAD_CORNER_XY 247489.356 4022282.004 *
NE_QUAD_CORNER_XY 253102.016 4022120.534 *
SE_QUAD_CORNER_XY 252904.898 4015185.632 *
SW_QUAD_CORNER_XY 247287.749 4015346.990 *
SECONDARY_NW_QUAD_XY 247483.309 4022080.750 *
SECONDARY_NE_QUAD_XY 253096.103 4021919.276 *
SECONDARY_SE_QUAD_XY 252898.990 4014984.545 *
SECONDARY_SW_QUAD_XY 247281.706 4015145.908 *
RMSE_XY 1.022 *
IMAGE_SOURCE "BLACK AND WHITE FILM" *
SOURCE_IMAGE_ID "NAPP 6916 177" *
SOURCE_IMAGE_DATE 1994 05 02 *
SOURCE_DEM_DATE 1954 00 00 *
AGENCY "WESTERN MAPPING CENTER (WMC)" *
PRODUCER "ANALYTICAL SURVEYS INC." *
PRODUCTION_SYSTEM "ORBIT OR_RECTIFY V.5.2" *
STANDARD_VERSION 1996 12 *
METADATA_DATE 1998 12 02 *
DATA_FILE_SIZE 50393910 *
BYTE_COUNT 6510 *
*
*
*
*
*
*
*
*
*
*
*
*
*
*
*
*
*
*
*
*
*
*
*
*
*
*
*
*
*
*
*
*
*
*
*
*
*
*
END_USGS_HEADER *