BEGIN_USGS_DOQ_HEADER *
QUADRANGLE_NAME "VANGUARD" *
QUADRANT SW *
NORTH_LATITUDE 36 18 45.000 *
WEST_LONGITUDE -120 00 00.000 *
SOUTH_LATITUDE 36 15 00.000 *
EAST_LONGITUDE -119 56 15.000 *
PRODUCTION_DATE 1998 11 23 *
RASTER_ORDER LEFT_RIGHT/TOP_BOTTOM *
BAND_ORGANIZATION "SINGLE FILE" *
BAND_CONTENT BLACK&WHITE *
BITS_PER_PIXEL 8 *
SAMPLES_AND_LINES 6540 7740 *
HORIZONTAL_DATUM NAD83 *
HORIZONTAL_COORDINATE_SYSTEM UTM *
COORDINATE_ZONE 11 *
HORIZONTAL_UNITS METERS *
HORIZONTAL_RESOLUTION 1.000 *
SECONDARY_HORIZONTAL_DATUM NAD27 *
XY_ORIGIN 230040.000 4023090.000 *
SECONDARY_XY_ORIGIN 230121.134 4022891.382 *
NATION US *
STATE CA *
NW_QUAD_CORNER_XY 230650.829 4022788.237 *
NE_QUAD_CORNER_XY 236263.765 4022615.855 *
SE_QUAD_CORNER_XY 236053.174 4015680.612 *
SW_QUAD_CORNER_XY 230435.746 4015852.877 *
SECONDARY_NW_QUAD_XY 230644.378 4022586.996 *
SECONDARY_NE_QUAD_XY 236257.448 4022414.609 *
SECONDARY_SE_QUAD_XY 236046.863 4015479.538 *
SECONDARY_SW_QUAD_XY 230429.300 4015651.807 *
RMSE_XY 1.538 *
IMAGE_SOURCE "BLACK AND WHITE FILM" *
SOURCE_IMAGE_ID "NAPP 6919 211" *
SOURCE_IMAGE_DATE 1994 05 11 *
SOURCE_DEM_DATE 1981 00 00 *
AGENCY "WESTERN MAPPING CENTER (WMC)" *
PRODUCER "ANALYTICAL SURVEYS INC." *
PRODUCTION_SYSTEM "ORBIT OR_RECTIFY V.5.2" *
STANDARD_VERSION 1996 12 *
METADATA_DATE 1998 12 02 *
DATA_FILE_SIZE 50626140 *
BYTE_COUNT 6540 * * * * * * * * * * * * * * * * * * * * * * * * * * * * * * * * * * * * * * *
END_USGS_HEADER *
