BEGIN_USGS_DOQ_HEADER *
QUADRANGLE_NAME "WOODLAKE" *
QUADRANT NE *
NORTH_LATITUDE 36 30 00.000 *
WEST_LONGITUDE -119 03 45.000 *
SOUTH_LATITUDE 36 26 15.000 *
EAST_LONGITUDE -119 00 00.000 *
PRODUCTION_DATE 1998 12 01 *
RASTER_ORDER LEFT_RIGHT/TOP_BOTTOM *
BAND_ORGANIZATION "SINGLE FILE" *
BAND_CONTENT BLACK&WHITE *
BITS_PER_PIXEL 8 *
SAMPLES_AND_LINES 6450 7680 *
HORIZONTAL_DATUM NAD83 *
HORIZONTAL_COORDINATE_SYSTEM UTM *
COORDINATE_ZONE 11 *
HORIZONTAL_UNITS METERS *
HORIZONTAL_RESOLUTION 1.000 *
SECONDARY_HORIZONTAL_DATUM NAD27 *
XY_ORIGIN 314730.000 4041690.000 *
SECONDARY_XY_ORIGIN 314809.801 4041492.049 *
NATION US *
STATE CA *
NW_QUAD_CORNER_XY 315280.498 4041386.191 *
NE_QUAD_CORNER_XY 320878.739 4041268.087 *
SE_QUAD_CORNER_XY 320734.815 4034334.129 *
SW_QUAD_CORNER_XY 315132.070 4034452.153 *
SECONDARY_NW_QUAD_XY 315276.053 4041184.386 *
SECONDARY_NE_QUAD_XY 320874.430 4041066.279 *
SECONDARY_SE_QUAD_XY 320730.509 4034132.490 *
SECONDARY_SW_QUAD_XY 315127.629 4034250.518 *
RMSE_XY 2.016 *
IMAGE_SOURCE "BLACK AND WHITE FILM" *
SOURCE_IMAGE_ID "NAPP 6927 98" *
SOURCE_IMAGE_DATE 1994 09 04 *
SOURCE_DEM_DATE 1969 00 00 *
AGENCY "WESTERN MAPPING CENTER (WMC)" *
PRODUCER "ANALYTICAL SURVEYS INC." *
PRODUCTION_SYSTEM "ORBIT OR_RECTIFY V.5.2" *
STANDARD_VERSION 1996 12 *
METADATA_DATE 1998 12 03 *
DATA_FILE_SIZE 49542450 *
BYTE_COUNT 6450 * * * * * * * * * * * * * * * * * * * * * * * * * * * * * * * * * * * * * *
END_USGS_HEADER *
