BEGIN_USGS_DOQ_HEADER *
QUADRANGLE_NAME "WOODLAKE" *
QUADRANT NW *
NORTH_LATITUDE 36 30 00.000 *
WEST_LONGITUDE -119 07 30.000 *
SOUTH_LATITUDE 36 26 15.000 *
EAST_LONGITUDE -119 03 45.000 *
PRODUCTION_DATE 1998 12 01 *
RASTER_ORDER LEFT_RIGHT/TOP_BOTTOM *
BAND_ORGANIZATION "SINGLE FILE" *
BAND_CONTENT BLACK&WHITE *
BITS_PER_PIXEL 8 *
SAMPLES_AND_LINES 6480 7680 *
HORIZONTAL_DATUM NAD83 *
HORIZONTAL_COORDINATE_SYSTEM UTM *
COORDINATE_ZONE 11 *
HORIZONTAL_UNITS METERS *
HORIZONTAL_RESOLUTION 1.000 *
SECONDARY_HORIZONTAL_DATUM NAD27 *
XY_ORIGIN 309120.000 4041810.000 *
SECONDARY_XY_ORIGIN 309199.897 4041611.949 *
NATION US *
STATE CA *
NW_QUAD_CORNER_XY 309682.191 4041507.933 *
NE_QUAD_CORNER_XY 315280.498 4041386.191 *
SE_QUAD_CORNER_XY 315132.070 4034452.153 *
SW_QUAD_CORNER_XY 309529.260 4034573.814 *
SECONDARY_NW_QUAD_XY 309677.612 4041306.131 *
SECONDARY_NE_QUAD_XY 315276.053 4041184.386 *
SECONDARY_SE_QUAD_XY 315127.629 4034250.518 *
SECONDARY_SW_QUAD_XY 309524.685 4034372.181 *
RMSE_XY 1.786 *
IMAGE_SOURCE "BLACK AND WHITE FILM" *
SOURCE_IMAGE_ID "NAPP 6927 103" *
SOURCE_IMAGE_DATE 1994 09 04 *
SOURCE_DEM_DATE 1969 00 00 *
AGENCY "WESTERN MAPPING CENTER (WMC)" *
PRODUCER "ANALYTICAL SURVEYS INC." *
PRODUCTION_SYSTEM "ORBIT OR_RECTIFY V.5.2" *
STANDARD_VERSION 1996 12 *
METADATA_DATE 1998 12 03 *
DATA_FILE_SIZE 49772880 *
BYTE_COUNT 6480 * * * * * * * * * * * * * * * * * * * * * * * * * * * * * * * * * * * * * *
END_USGS_HEADER *
