BEGIN_USGS_DOQ_HEADER *
QUADRANGLE_NAME "WOODLAKE" *
QUADRANT SW *
NORTH_LATITUDE 36 26 15.000 *
WEST_LONGITUDE -119 07 30.000 *
SOUTH_LATITUDE 36 22 30.000 *
EAST_LONGITUDE -119 03 45.000 *
PRODUCTION_DATE 1998 12 01 *
RASTER_ORDER LEFT_RIGHT/TOP_BOTTOM *
BAND_ORGANIZATION "SINGLE FILE" *
BAND_CONTENT BLACK&WHITE *
BITS_PER_PIXEL 8 *
SAMPLES_AND_LINES 6480 7680 *
HORIZONTAL_DATUM NAD83 *
HORIZONTAL_COORDINATE_SYSTEM UTM *
COORDINATE_ZONE 11 *
HORIZONTAL_UNITS METERS *
HORIZONTAL_RESOLUTION 1.000 *
SECONDARY_HORIZONTAL_DATUM NAD27 *
XY_ORIGIN 308970.000 4034880.000 *
SECONDARY_XY_ORIGIN 309049.921 4034682.090 *
NATION US *
STATE CA *
NW_QUAD_CORNER_XY 309529.260 4034573.814 *
NE_QUAD_CORNER_XY 315132.070 4034452.153 *
SE_QUAD_CORNER_XY 314983.863 4027518.179 *
SW_QUAD_CORNER_XY 309376.556 4027639.757 *
SECONDARY_NW_QUAD_XY 309524.685 4034372.181 *
SECONDARY_NE_QUAD_XY 315127.629 4034250.518 *
SECONDARY_SE_QUAD_XY 314979.426 4027316.714 *
SECONDARY_SW_QUAD_XY 309371.984 4027438.295 *
RMSE_XY 1.209 *
IMAGE_SOURCE "BLACK AND WHITE FILM" *
SOURCE_IMAGE_ID "NAPP 6927 105" *
SOURCE_IMAGE_DATE 1994 09 04 *
SOURCE_DEM_DATE 1969 00 00 *
AGENCY "WESTERN MAPPING CENTER (WMC)" *
PRODUCER "ANALYTICAL SURVEYS INC." *
PRODUCTION_SYSTEM "ORBIT OR_RECTIFY V.5.2" *
STANDARD_VERSION 1996 12 *
METADATA_DATE 1998 12 03 *
DATA_FILE_SIZE 49772880 *
BYTE_COUNT 6480 * * * * * * * * * * * * * * * * * * * * * * * * * * * * * * * * * * * * * *
END_USGS_HEADER *
