BEGIN_USGS_DOQ_HEADER *
QUADRANGLE_NAME "MONSON" *
QUADRANT NE *
NORTH_LATITUDE 36 30 00.000 *
WEST_LONGITUDE -119 18 45.000 *
SOUTH_LATITUDE 36 26 15.000 *
EAST_LONGITUDE -119 15 00.000 *
PRODUCTION_DATE 1998 11 24 *
RASTER_ORDER LEFT_RIGHT/TOP_BOTTOM *
BAND_ORGANIZATION "SINGLE FILE" *
BAND_CONTENT BLACK&WHITE *
BITS_PER_PIXEL 8 *
SAMPLES_AND_LINES 6480 7680 *
HORIZONTAL_DATUM NAD83 *
HORIZONTAL_COORDINATE_SYSTEM UTM *
COORDINATE_ZONE 11 *
HORIZONTAL_UNITS METERS *
HORIZONTAL_RESOLUTION 1.000 *
SECONDARY_HORIZONTAL_DATUM NAD27 *
XY_ORIGIN 292320.000 4042200.000 *
SECONDARY_XY_ORIGIN 292400.248 4042001.663 *
NATION US *
STATE CA *
NW_QUAD_CORNER_XY 292886.863 4041894.996 *
NE_QUAD_CORNER_XY 298485.376 4041762.335 *
SE_QUAD_CORNER_XY 298323.436 4034828.045 *
SW_QUAD_CORNER_XY 292720.418 4034960.617 *
SECONDARY_NW_QUAD_XY 292881.880 4041693.203 *
SECONDARY_NE_QUAD_XY 298480.527 4041560.539 *
SECONDARY_SE_QUAD_XY 298318.591 4034626.419 *
SECONDARY_SW_QUAD_XY 292715.439 4034758.993 *
RMSE_XY 3.047 *
IMAGE_SOURCE "BLACK AND WHITE FILM" *
SOURCE_IMAGE_ID "NAPP 6927 3" *
SOURCE_IMAGE_DATE 1994 09 04 *
SOURCE_DEM_DATE 1969 00 00 *
AGENCY "WESTERN MAPPING CENTER (WMC)" *
PRODUCER "ANALYTICAL SURVEYS INC." *
PRODUCTION_SYSTEM "ORBIT OR_RECTIFY V.5.2" *
STANDARD_VERSION 1996 12 *
METADATA_DATE 1998 11 30 *
DATA_FILE_SIZE 49772880 *
BYTE_COUNT 6480 * * * * * * * * * * * * * * * * * * * * * * * * * * * * * * * * * * * * * *
END_USGS_HEADER *
