BEGIN_USGS_DOQ_HEADER *
QUADRANGLE_NAME "TRAVER" *
QUADRANT SE *
NORTH_LATITUDE 36 26 15.000 *
WEST_LONGITUDE -119 26 15.000 *
SOUTH_LATITUDE 36 22 30.000 *
EAST_LONGITUDE -119 22 30.000 *
PRODUCTION_DATE 1998 11 24 *
RASTER_ORDER LEFT_RIGHT/TOP_BOTTOM *
BAND_ORGANIZATION "SINGLE FILE" *
BAND_CONTENT BLACK&WHITE *
BITS_PER_PIXEL 8 *
SAMPLES_AND_LINES 6480 7710 *
HORIZONTAL_DATUM NAD83 *
HORIZONTAL_COORDINATE_SYSTEM UTM *
COORDINATE_ZONE 11 *
HORIZONTAL_UNITS METERS *
HORIZONTAL_RESOLUTION 1.000 *
SECONDARY_HORIZONTAL_DATUM NAD27 *
XY_ORIGIN 280950.000 4035540.000 *
SECONDARY_XY_ORIGIN 281030.571 4035341.675 *
NATION US *
STATE CA *
NW_QUAD_CORNER_XY 281514.161 4035236.674 *
NE_QUAD_CORNER_XY 287117.327 4035096.826 *
SE_QUAD_CORNER_XY 286946.629 4028162.416 *
SW_QUAD_CORNER_XY 281338.963 4028302.169 *
SECONDARY_NW_QUAD_XY 281508.912 4035035.057 *
SECONDARY_NE_QUAD_XY 287112.213 4034895.206 *
SECONDARY_SE_QUAD_XY 286941.520 4027960.966 *
SECONDARY_SW_QUAD_XY 281333.719 4028100.723 *
RMSE_XY 0.739 *
IMAGE_SOURCE "BLACK AND WHITE FILM" *
SOURCE_IMAGE_ID "NAPP 6918 224" *
SOURCE_IMAGE_DATE 1994 05 10 *
SOURCE_DEM_DATE 1969 00 00 *
AGENCY "WESTERN MAPPING CENTER (WMC)" *
PRODUCER "ANALYTICAL SURVEYS INC." *
PRODUCTION_SYSTEM "ORBIT OR_RECTIFY V.5.2" *
STANDARD_VERSION 1996 12 *
METADATA_DATE 1998 11 30 *
DATA_FILE_SIZE 49967280 *
BYTE_COUNT 6480 * * * * * * * * * * * * * * * * * * * * * * * * * * * * * * * * * * * * * *
END_USGS_HEADER *
