BEGIN_USGS_DOQ_HEADER *
QUADRANGLE_NAME "TRAVER" *
QUADRANT SW *
NORTH_LATITUDE 36 26 15.000 *
WEST_LONGITUDE -119 30 00.000 *
SOUTH_LATITUDE 36 22 30.000 *
EAST_LONGITUDE -119 26 15.000 *
PRODUCTION_DATE 1998 11 24 *
RASTER_ORDER LEFT_RIGHT/TOP_BOTTOM *
BAND_ORGANIZATION "SINGLE FILE" *
BAND_CONTENT BLACK&WHITE *
BITS_PER_PIXEL 8 *
SAMPLES_AND_LINES 6480 7710 *
HORIZONTAL_DATUM NAD83 *
HORIZONTAL_COORDINATE_SYSTEM UTM *
COORDINATE_ZONE 11 *
HORIZONTAL_UNITS METERS *
HORIZONTAL_RESOLUTION 1.000 *
SECONDARY_HORIZONTAL_DATUM NAD27 *
XY_ORIGIN 275340.000 4035690.000 *
SECONDARY_XY_ORIGIN 275420.721 4035491.599 *
NATION US *
STATE CA *
NW_QUAD_CORNER_XY 275910.917 4035380.161 *
NE_QUAD_CORNER_XY 281514.161 4035236.674 *
SE_QUAD_CORNER_XY 281338.963 4028302.169 *
SW_QUAD_CORNER_XY 275731.220 4028445.559 *
SECONDARY_NW_QUAD_XY 275905.534 4035178.548 *
SECONDARY_NE_QUAD_XY 281508.912 4035035.057 *
SECONDARY_SE_QUAD_XY 281333.719 4028100.723 *
SECONDARY_SW_QUAD_XY 275725.841 4028244.116 *
RMSE_XY 0.535 *
IMAGE_SOURCE "BLACK AND WHITE FILM" *
SOURCE_IMAGE_ID "NAPP 6918 141" *
SOURCE_IMAGE_DATE 1994 05 10 *
SOURCE_DEM_DATE 1969 00 00 *
AGENCY "WESTERN MAPPING CENTER (WMC)" *
PRODUCER "ANALYTICAL SURVEYS INC." *
PRODUCTION_SYSTEM "ORBIT OR_RECTIFY V.5.2" *
STANDARD_VERSION 1996 12 *
METADATA_DATE 1998 11 30 *
DATA_FILE_SIZE 49967280 *
BYTE_COUNT 6480 * * * * * * * * * * * * * * * * * * * * * * * * * * * * * * * * * * * * * *
END_USGS_HEADER *
