BEGIN_USGS_DOQ_HEADER *
QUADRANGLE_NAME "BURRIS PARK" *
QUADRANT NE *
NORTH_LATITUDE 36 30 00.000 *
WEST_LONGITUDE -119 33 45.000 *
SOUTH_LATITUDE 36 26 15.000 *
EAST_LONGITUDE -119 30 00.000 *
PRODUCTION_DATE 1998 11 24 *
RASTER_ORDER LEFT_RIGHT/TOP_BOTTOM *
BAND_ORGANIZATION "SINGLE FILE" *
BAND_CONTENT BLACK&WHITE *
BITS_PER_PIXEL 8 *
SAMPLES_AND_LINES 6510 7710 *
HORIZONTAL_DATUM NAD83 *
HORIZONTAL_COORDINATE_SYSTEM UTM *
COORDINATE_ZONE 11 *
HORIZONTAL_UNITS METERS *
HORIZONTAL_RESOLUTION 1.000 *
SECONDARY_HORIZONTAL_DATUM NAD27 *
XY_ORIGIN 269910.000 4042770.000 *
SECONDARY_XY_ORIGIN 269990.814 4042571.368 *
NATION US *
STATE CA *
NW_QUAD_CORNER_XY 270492.068 4042462.047 *
NE_QUAD_CORNER_XY 276090.882 4042314.822 *
SE_QUAD_CORNER_XY 275910.917 4035380.161 *
SW_QUAD_CORNER_XY 270307.595 4035527.287 *
SECONDARY_NW_QUAD_XY 270486.545 4042260.268 *
SECONDARY_NE_QUAD_XY 276085.494 4042113.039 *
SECONDARY_SE_QUAD_XY 275905.534 4035178.548 *
SECONDARY_SW_QUAD_XY 270302.077 4035325.677 *
RMSE_XY 1.364 *
IMAGE_SOURCE "BLACK AND WHITE FILM" *
SOURCE_IMAGE_ID "NAPP 6918 136" *
SOURCE_IMAGE_DATE 1994 05 10 *
SOURCE_DEM_DATE 1954 00 00 *
AGENCY "WESTERN MAPPING CENTER (WMC)" *
PRODUCER "ANALYTICAL SURVEYS INC." *
PRODUCTION_SYSTEM "ORBIT OR_RECTIFY V.5.2" *
STANDARD_VERSION 1996 12 *
METADATA_DATE 1998 11 30 *
DATA_FILE_SIZE 50198610 *
BYTE_COUNT 6510 * * * * * * * * * * * * * * * * * * * * * * * * * * * * * * * * * * * * * * *
END_USGS_HEADER *
