BEGIN_USGS_DOQ_HEADER *
QUADRANGLE_NAME "BURRIS PARK" *
QUADRANT NW *
NORTH_LATITUDE 36 30 00.000 *
WEST_LONGITUDE -119 37 30.000 *
SOUTH_LATITUDE 36 26 15.000 *
EAST_LONGITUDE -119 33 45.000 *
PRODUCTION_DATE 1998 11 24 *
RASTER_ORDER LEFT_RIGHT/TOP_BOTTOM *
BAND_ORGANIZATION "SINGLE FILE" *
BAND_CONTENT BLACK&WHITE *
BITS_PER_PIXEL 8 *
SAMPLES_AND_LINES 6510 7710 *
HORIZONTAL_DATUM NAD83 *
HORIZONTAL_COORDINATE_SYSTEM UTM *
COORDINATE_ZONE 11 *
HORIZONTAL_UNITS METERS *
HORIZONTAL_RESOLUTION 1.000 *
SECONDARY_HORIZONTAL_DATUM NAD27 *
XY_ORIGIN 264300.000 4042920.000 *
SECONDARY_XY_ORIGIN 264380.909 4042721.340 *
NATION US *
STATE CA *
NW_QUAD_CORNER_XY 264893.172 4042612.914 *
NE_QUAD_CORNER_XY 270492.068 4042462.047 *
SE_QUAD_CORNER_XY 270307.595 4035527.287 *
SW_QUAD_CORNER_XY 264704.191 4035678.053 *
SECONDARY_NW_QUAD_XY 264887.515 4042411.138 *
SECONDARY_NE_QUAD_XY 270486.545 4042260.268 *
SECONDARY_SE_QUAD_XY 270302.077 4035325.677 *
SECONDARY_SW_QUAD_XY 264698.538 4035476.447 *
RMSE_XY 1.092 *
IMAGE_SOURCE "BLACK AND WHITE FILM" *
SOURCE_IMAGE_ID "NAPP 6918 51" *
SOURCE_IMAGE_DATE 1994 05 10 *
SOURCE_DEM_DATE 1954 00 00 *
AGENCY "WESTERN MAPPING CENTER (WMC)" *
PRODUCER "ANALYTICAL SURVEYS INC." *
PRODUCTION_SYSTEM "ORBIT OR_RECTIFY V.5.2" *
STANDARD_VERSION 1996 12 *
METADATA_DATE 1998 11 30 *
DATA_FILE_SIZE 50198610 *
BYTE_COUNT 6510 * * * * * * * * * * * * * * * * * * * * * * * * * * * * * * * * * * * * * * *
END_USGS_HEADER *
