BEGIN_USGS_DOQ_HEADER *
QUADRANGLE_NAME "BURRIS PARK" *
QUADRANT SE *
NORTH_LATITUDE 36 26 15.000 *
WEST_LONGITUDE -119 33 45.000 *
SOUTH_LATITUDE 36 22 30.000 *
EAST_LONGITUDE -119 30 00.000 *
PRODUCTION_DATE 1998 11 24 *
RASTER_ORDER LEFT_RIGHT/TOP_BOTTOM *
BAND_ORGANIZATION "SINGLE FILE" *
BAND_CONTENT BLACK&WHITE *
BITS_PER_PIXEL 8 *
SAMPLES_AND_LINES 6510 7710 *
HORIZONTAL_DATUM NAD83 *
HORIZONTAL_COORDINATE_SYSTEM UTM *
COORDINATE_ZONE 11 *
HORIZONTAL_UNITS METERS *
HORIZONTAL_RESOLUTION 1.000 *
SECONDARY_HORIZONTAL_DATUM NAD27 *
XY_ORIGIN 269730.000 4035840.000 *
SECONDARY_XY_ORIGIN 269810.799 4035641.562 *
NATION US *
STATE CA *
NW_QUAD_CORNER_XY 270307.595 4035527.287 *
NE_QUAD_CORNER_XY 275910.917 4035380.161 *
SE_QUAD_CORNER_XY 275731.220 4028445.559 *
SW_QUAD_CORNER_XY 270123.396 4028592.586 *
SECONDARY_NW_QUAD_XY 270302.077 4035325.677 *
SECONDARY_NE_QUAD_XY 275905.534 4035178.548 *
SECONDARY_SE_QUAD_XY 275725.841 4028244.116 *
SECONDARY_SW_QUAD_XY 270117.882 4028391.146 *
RMSE_XY 0.453 *
IMAGE_SOURCE "BLACK AND WHITE FILM" *
SOURCE_IMAGE_ID "NAPP 6918 134" *
SOURCE_IMAGE_DATE 1994 05 10 *
SOURCE_DEM_DATE 1954 00 00 *
AGENCY "WESTERN MAPPING CENTER (WMC)" *
PRODUCER "ANALYTICAL SURVEYS INC." *
PRODUCTION_SYSTEM "ORBIT OR_RECTIFY V.5.2" *
STANDARD_VERSION 1996 12 *
METADATA_DATE 1998 11 30 *
DATA_FILE_SIZE 50198610 *
BYTE_COUNT 6510 * * * * * * * * * * * * * * * * * * * * * * * * * * * * * * * * * * * * * * *
END_USGS_HEADER *
