BEGIN_USGS_DOQ_HEADER *
QUADRANGLE_NAME "BURRIS PARK" *
QUADRANT SW *
NORTH_LATITUDE 36 26 15.000 *
WEST_LONGITUDE -119 37 30.000 *
SOUTH_LATITUDE 36 22 30.000 *
EAST_LONGITUDE -119 33 45.000 *
PRODUCTION_DATE 1998 11 24 *
RASTER_ORDER LEFT_RIGHT/TOP_BOTTOM *
BAND_ORGANIZATION "SINGLE FILE" *
BAND_CONTENT BLACK&WHITE *
BITS_PER_PIXEL 8 *
SAMPLES_AND_LINES 6510 7710 *
HORIZONTAL_DATUM NAD83 *
HORIZONTAL_COORDINATE_SYSTEM UTM *
COORDINATE_ZONE 11 *
HORIZONTAL_UNITS METERS *
HORIZONTAL_RESOLUTION 1.000 *
SECONDARY_HORIZONTAL_DATUM NAD27 *
XY_ORIGIN 264120.000 4035990.000 *
SECONDARY_XY_ORIGIN 264200.883 4035791.528 *
NATION US *
STATE CA *
NW_QUAD_CORNER_XY 264704.191 4035678.053 *
NE_QUAD_CORNER_XY 270307.595 4035527.287 *
SE_QUAD_CORNER_XY 270123.396 4028592.586 *
SW_QUAD_CORNER_XY 264515.491 4028743.250 *
SECONDARY_NW_QUAD_XY 264698.538 4035476.447 *
SECONDARY_NE_QUAD_XY 270302.077 4035325.677 *
SECONDARY_SE_QUAD_XY 270117.882 4028391.146 *
SECONDARY_SW_QUAD_XY 264509.843 4028541.814 *
RMSE_XY 0.757 *
IMAGE_SOURCE "BLACK AND WHITE FILM" *
SOURCE_IMAGE_ID "NAPP 6918 53" *
SOURCE_IMAGE_DATE 1994 05 10 *
SOURCE_DEM_DATE 1954 00 00 *
AGENCY "WESTERN MAPPING CENTER (WMC)" *
PRODUCER "ANALYTICAL SURVEYS INC." *
PRODUCTION_SYSTEM "ORBIT OR_RECTIFY V.5.2" *
STANDARD_VERSION 1996 12 *
METADATA_DATE 1998 11 30 *
DATA_FILE_SIZE 50198610 *
BYTE_COUNT 6510 * * * * * * * * * * * * * * * * * * * * * * * * * * * * * * * * * * * * * * *
END_USGS_HEADER *
