BEGIN_USGS_DOQ_HEADER *
QUADRANGLE_NAME "LATON" *
QUADRANT NW *
NORTH_LATITUDE 36 30 00.000 *
WEST_LONGITUDE -119 45 00.000 *
SOUTH_LATITUDE 36 26 15.000 *
EAST_LONGITUDE -119 41 15.000 *
PRODUCTION_DATE 1998 11 25 *
RASTER_ORDER LEFT_RIGHT/TOP_BOTTOM *
BAND_ORGANIZATION "SINGLE FILE" *
BAND_CONTENT BLACK&WHITE *
BITS_PER_PIXEL 8 *
SAMPLES_AND_LINES 6510 7740 *
HORIZONTAL_DATUM NAD83 *
HORIZONTAL_COORDINATE_SYSTEM UTM *
COORDINATE_ZONE 11 *
HORIZONTAL_UNITS METERS *
HORIZONTAL_RESOLUTION 1.000 *
SECONDARY_HORIZONTAL_DATUM NAD27 *
XY_ORIGIN 253110.000 4043250.000 *
SECONDARY_XY_ORIGIN 253191.099 4043051.283 *
NATION US *
STATE CA *
NW_QUAD_CORNER_XY 253695.133 4042925.577 *
NE_QUAD_CORNER_XY 259294.195 4042767.424 *
SE_QUAD_CORNER_XY 259100.705 4035832.460 *
SW_QUAD_CORNER_XY 253497.133 4035990.507 *
SECONDARY_NW_QUAD_XY 253689.206 4042723.809 *
SECONDARY_NE_QUAD_XY 259288.402 4042565.652 *
SECONDARY_SE_QUAD_XY 259094.917 4035630.857 *
SECONDARY_SW_QUAD_XY 253491.211 4035788.908 *
RMSE_XY 0.846 *
IMAGE_SOURCE "BLACK AND WHITE FILM" *
SOURCE_IMAGE_ID "NAPP 6919 227" *
SOURCE_IMAGE_DATE 1994 05 11 *
SOURCE_DEM_DATE 1953 00 00 *
AGENCY "WESTERN MAPPING CENTER (WMC)" *
PRODUCER "ANALYTICAL SURVEYS INC." *
PRODUCTION_SYSTEM "ORBIT OR_RECTIFY V.5.2" *
STANDARD_VERSION 1996 12 *
METADATA_DATE 1998 12 02 *
DATA_FILE_SIZE 50393910 *
BYTE_COUNT 6510 * * * * * * * * * * * * * * * * * * * * * * * * * * * * * * * * * * * * * * *
END_USGS_HEADER *
