BEGIN_USGS_DOQ_HEADER *
QUADRANGLE_NAME "RIVERDALE" *
QUADRANT SW *
NORTH_LATITUDE 36 26 15.000 *
WEST_LONGITUDE -119 52 30.000 *
SOUTH_LATITUDE 36 22 30.000 *
EAST_LONGITUDE -119 48 45.000 *
PRODUCTION_DATE 1998 11 24 *
RASTER_ORDER LEFT_RIGHT/TOP_BOTTOM *
BAND_ORGANIZATION "SINGLE FILE" *
BAND_CONTENT BLACK&WHITE *
BITS_PER_PIXEL 8 *
SAMPLES_AND_LINES 6540 7710 *
HORIZONTAL_DATUM NAD83 *
HORIZONTAL_COORDINATE_SYSTEM UTM *
COORDINATE_ZONE 11 *
HORIZONTAL_UNITS METERS *
HORIZONTAL_RESOLUTION 1.000 *
SECONDARY_HORIZONTAL_DATUM NAD27 *
XY_ORIGIN 241680.000 4036620.000 *
SECONDARY_XY_ORIGIN 241761.224 4036421.360 *
NATION US *
STATE CA *
NW_QUAD_CORNER_XY 242289.727 4036317.527 *
NE_QUAD_CORNER_XY 247893.475 4036152.196 *
SE_QUAD_CORNER_XY 247691.265 4029217.072 *
SW_QUAD_CORNER_XY 242083.013 4029382.291 *
SECONDARY_NW_QUAD_XY 242283.535 4036115.936 *
SECONDARY_NE_QUAD_XY 247887.417 4035950.601 *
SECONDARY_SE_QUAD_XY 247685.213 4029015.647 *
SECONDARY_SW_QUAD_XY 242076.826 4029180.870 *
RMSE_XY 0.634 *
IMAGE_SOURCE "BLACK AND WHITE FILM" *
SOURCE_IMAGE_ID "NAPP 6916 164" *
SOURCE_IMAGE_DATE 1994 05 02 *
SOURCE_DEM_DATE 1954 00 00 *
AGENCY "WESTERN MAPPING CENTER (WMC)" *
PRODUCER "ANALYTICAL SURVEYS INC." *
PRODUCTION_SYSTEM "ORBIT OR_RECTIFY V.5.2" *
STANDARD_VERSION 1996 12 *
METADATA_DATE 1998 12 02 *
DATA_FILE_SIZE 50429940 *
BYTE_COUNT 6540 * * * * * * * * * * * * * * * * * * * * * * * * * * * * * * * * * * * * * * *
END_USGS_HEADER *
