BEGIN_USGS_DOQ_HEADER *
QUADRANGLE_NAME "BURREL" *
QUADRANT NW *
NORTH_LATITUDE 36 30 00.000 *
WEST_LONGITUDE -120 00 00.000 *
SOUTH_LATITUDE 36 26 15.000 *
EAST_LONGITUDE -119 56 15.000 *
PRODUCTION_DATE 1998 11 25 *
RASTER_ORDER LEFT_RIGHT/TOP_BOTTOM *
BAND_ORGANIZATION "SINGLE FILE" *
BAND_CONTENT BLACK&WHITE *
BITS_PER_PIXEL 8 *
SAMPLES_AND_LINES 6540 7740 *
HORIZONTAL_DATUM NAD83 *
HORIZONTAL_COORDINATE_SYSTEM UTM *
COORDINATE_ZONE 11 *
HORIZONTAL_UNITS METERS *
HORIZONTAL_RESOLUTION 1.000 *
SECONDARY_HORIZONTAL_DATUM NAD27 *
XY_ORIGIN 230670.000 4043910.000 *
SECONDARY_XY_ORIGIN 230751.531 4043711.213 *
NATION US *
STATE CA *
NW_QUAD_CORNER_XY 231298.003 4043594.636 *
NE_QUAD_CORNER_XY 236897.422 4043421.903 *
SE_QUAD_CORNER_XY 236685.889 4036486.500 *
SW_QUAD_CORNER_XY 231081.958 4036659.117 *
SECONDARY_NW_QUAD_XY 231291.536 4043392.884 *
SECONDARY_NE_QUAD_XY 236891.090 4043220.147 *
SECONDARY_SE_QUAD_XY 236679.562 4036284.913 *
SECONDARY_SW_QUAD_XY 231075.496 4036457.534 *
RMSE_XY 1.025 *
IMAGE_SOURCE "BLACK AND WHITE FILM" *
SOURCE_IMAGE_ID "NAPP 6915 240" *
SOURCE_IMAGE_DATE 1994 04 21 *
SOURCE_DEM_DATE 1981 00 00 *
AGENCY "WESTERN MAPPING CENTER (WMC)" *
PRODUCER "ANALYTICAL SURVEYS INC." *
PRODUCTION_SYSTEM "ORBIT OR_RECTIFY V.5.2" *
STANDARD_VERSION 1996 12 *
METADATA_DATE 1998 12 02 *
DATA_FILE_SIZE 50626140 *
BYTE_COUNT 6540 * * * * * * * * * * * * * * * * * * * * * * * * * * * * * * * * * * * * * * *
END_USGS_HEADER *
