FILENAME: 36119E11
QUADRANGLE_NAME: AUCKLAND
QUADRANT: NW
WEST_LONGITUDE: -119 7 30.00000
EAST_LONGITUDE: -119 3 45.00000
NORTH_LATITUDE: 36 37 30.00000
SOUTH_LATITUDE: 36 33 45.00000
PRODUCTION_DATE: 2002 02 15
RASTER_ORDER: LEFT_RIGHT/TOP_BOTTOM
BAND_ORGANIZATION: SINGLE FILE
BAND_CONTENT: BLACK&WHITE
BAND_CONTENT: UNDEFINED
BAND_CONTENT: UNDEFINED
BITS_PER_PIXEL: 8
SAMPLES_AND_LINES: 6450 7710
HORIZONTAL_DATUM: NAD83
HORIZONTAL_COORDINATE_SYSTEM: UTM
COORDINATE_ZONE: 11
HORIZONTAL_UNITS: METERS
HORIZONTAL_RESOLUTION: 1.00000
SECONDARY_HORIZONTAL_DATUM: NAD27
XY_ORIGIN: 309450.00000 4055700.00000
SECONDARY_XY_ORIGIN: 309530.01500 4055501.69600
NATION: US
STATE: CA
NW_QUAD_CORNER_XY: 309988.73400 4055376.36000
NE_QUAD_CORNER_XY: 315578.01300 4055254.45600
SE_QUAD_CORNERY_XY: 315429.14500 4048320.29200
SW_QUAD_CORNER_XY: 309835.34900 4048442.11500
SECONDARY_NW_QUAD_XY: 309984.14800 4055174.22200
SECONDARY_NE_QUAD_XY: 315573.56200 4055052.31500
SECONDARY_SE_QUAD_XY: 315424.69700 4048118.31800
SECONDARY_SW_QUAD_XY: 309830.76600 4048240.14500
RMSE_XY: 1.84000
IMAGE_SOURCE: BLACK AND WHITE FILM
SOURCE_IMAGE_ID: NAPP 10549 195
SOURCE_IMAGE_DATE: 1998 08 20
SOURCE_IMAGE_ID: NAPP 10549 197
SOURCE_IMAGE_DATE: 1998 08 20
SOURCE_IMAGE_ID: NAPP 10549 202
SOURCE_IMAGE_DATE: 1998 08 20
SOURCE_DEM_DATE: 1966 00 00
AGENCY: WESTERN MAPPING CENTER (WMC)
PRODUCER: SANBORN COLORADO, L.L.C.
PRODUCTION_SYSTEM: ORBIT OR_RECTIFY V.5.2
COMPRESSION: UNDEFINED
STANDARD_VERSION: 1996 12
METADATA_DATE: 2002 03 05
DATA_FILE_SIZE: 49735950
BYTE_COUNT: 6450
