FILENAME: 36119E14
QUADRANGLE_NAME: AUCKLAND
QUADRANT: SW
WEST_LONGITUDE: -119 7 30.00000
EAST_LONGITUDE: -119 3 45.00000
NORTH_LATITUDE: 36 33 45.00000
SOUTH_LATITUDE: 36 30 0.00000
PRODUCTION_DATE: 2002 02 15
RASTER_ORDER: LEFT_RIGHT/TOP_BOTTOM
BAND_ORGANIZATION: SINGLE FILE
BAND_CONTENT: BLACK&WHITE
BAND_CONTENT: UNDEFINED
BAND_CONTENT: UNDEFINED
BITS_PER_PIXEL: 8
SAMPLES_AND_LINES: 6480 7710
HORIZONTAL_DATUM: NAD83
HORIZONTAL_COORDINATE_SYSTEM: UTM
COORDINATE_ZONE: 11
HORIZONTAL_UNITS: METERS
HORIZONTAL_RESOLUTION: 1.00000
SECONDARY_HORIZONTAL_DATUM: NAD27
XY_ORIGIN: 309270.00000 4048770.00000
SECONDARY_XY_ORIGIN: 309349.95800 4048571.82100
NATION: US
STATE: CA
NW_QUAD_CORNER_XY: 309835.34900 4048442.11500
NE_QUAD_CORNER_XY: 315429.14500 4048320.29200
SE_QUAD_CORNERY_XY: 315280.49800 4041386.19100
SW_QUAD_CORNER_XY: 309682.19100 4041507.93300
SECONDARY_NW_QUAD_XY: 309830.76600 4048240.14500
SECONDARY_NE_QUAD_XY: 315424.69700 4048118.31800
SECONDARY_SE_QUAD_XY: 315276.05300 4041184.38600
SECONDARY_SW_QUAD_XY: 309677.61200 4041306.13100
RMSE_XY: 1.05000
IMAGE_SOURCE: BLACK AND WHITE FILM
SOURCE_IMAGE_ID: NAPP 10549 197
SOURCE_IMAGE_DATE: 1998 08 20
SOURCE_IMAGE_ID: NAPP 10549 200
SOURCE_IMAGE_DATE: 1998 08 20
SOURCE_DEM_DATE: 1966 00 00
AGENCY: WESTERN MAPPING CENTER (WMC)
PRODUCER: SANBORN COLORADO, L.L.C.
PRODUCTION_SYSTEM: ORBIT OR_RECTIFY V.5.2
COMPRESSION: UNDEFINED
STANDARD_VERSION: 1996 12
METADATA_DATE: 2002 03 05
DATA_FILE_SIZE: 49967280
BYTE_COUNT: 6480
