FILENAME: 36119E22
QUADRANGLE_NAME: STOKES MOUNTAIN
QUADRANT: NE
WEST_LONGITUDE: -119 11 15.00000
EAST_LONGITUDE: -119 7 30.00000
NORTH_LATITUDE: 36 37 30.00000
SOUTH_LATITUDE: 36 33 45.00000
PRODUCTION_DATE: 2002 02 15
RASTER_ORDER: LEFT_RIGHT/TOP_BOTTOM
BAND_ORGANIZATION: SINGLE FILE
BAND_CONTENT: BLACK&WHITE
BAND_CONTENT: UNDEFINED
BAND_CONTENT: UNDEFINED
BITS_PER_PIXEL: 8
SAMPLES_AND_LINES: 6450 7710
HORIZONTAL_DATUM: NAD83
HORIZONTAL_COORDINATE_SYSTEM: UTM
COORDINATE_ZONE: 11
HORIZONTAL_UNITS: METERS
HORIZONTAL_RESOLUTION: 1.00000
SECONDARY_HORIZONTAL_DATUM: NAD27
XY_ORIGIN: 303840.00000 4055820.00000
SECONDARY_XY_ORIGIN: 303920.10200 4055621.59800
NATION: US
STATE: CA
NW_QUAD_CORNER_XY: 304399.38900 4055501.90800
NE_QUAD_CORNER_XY: 309988.73400 4055376.36000
SE_QUAD_CORNERY_XY: 309835.34900 4048442.11500
SW_QUAD_CORNER_XY: 304241.48700 4048567.58000
SECONDARY_NW_QUAD_XY: 304394.66800 4055299.77300
SECONDARY_NE_QUAD_XY: 309984.14800 4055174.22200
SECONDARY_SE_QUAD_XY: 309830.76600 4048240.14500
SECONDARY_SW_QUAD_XY: 304236.76900 4048365.61300
RMSE_XY: 1.23000
IMAGE_SOURCE: BLACK AND WHITE FILM
SOURCE_IMAGE_ID: NAPP 10547 263
SOURCE_IMAGE_DATE: 1998 08 17
SOURCE_IMAGE_ID: NAPP 10549 195
SOURCE_IMAGE_DATE: 1998 08 20
SOURCE_DEM_DATE: 1966 00 00
AGENCY: WESTERN MAPPING CENTER (WMC)
PRODUCER: SANBORN COLORADO, L.L.C.
PRODUCTION_SYSTEM: ORBIT OR_RECTIFY V.5.2
COMPRESSION: UNDEFINED
STANDARD_VERSION: 1996 12
METADATA_DATE: 2002 03 05
DATA_FILE_SIZE: 49735950
BYTE_COUNT: 6450
