FILENAME: 36119E21
QUADRANGLE_NAME: STOKES MOUNTAIN
QUADRANT: NW
WEST_LONGITUDE: -119 15 0.00000
EAST_LONGITUDE: -119 11 15.00000
NORTH_LATITUDE: 36 37 30.00000
SOUTH_LATITUDE: 36 33 45.00000
PRODUCTION_DATE: 2002 02 15
RASTER_ORDER: LEFT_RIGHT/TOP_BOTTOM
BAND_ORGANIZATION: SINGLE FILE
BAND_CONTENT: BLACK&WHITE
BAND_CONTENT: UNDEFINED
BAND_CONTENT: UNDEFINED
BITS_PER_PIXEL: 8
SAMPLES_AND_LINES: 6450 7680
HORIZONTAL_DATUM: NAD83
HORIZONTAL_COORDINATE_SYSTEM: UTM
COORDINATE_ZONE: 11
HORIZONTAL_UNITS: METERS
HORIZONTAL_RESOLUTION: 1.00000
SECONDARY_HORIZONTAL_DATUM: NAD27
XY_ORIGIN: 298260.00000 4055940.00000
SECONDARY_XY_ORIGIN: 298340.18900 4055741.50100
NATION: US
STATE: CA
NW_QUAD_CORNER_XY: 298809.97700 4055631.10000
NE_QUAD_CORNER_XY: 304399.38900 4055501.90800
SE_QUAD_CORNERY_XY: 304241.48700 4048567.58000
SW_QUAD_CORNER_XY: 298647.55600 4048696.68700
SECONDARY_NW_QUAD_XY: 298805.12100 4055428.96800
SECONDARY_NE_QUAD_XY: 304394.66800 4055299.77300
SECONDARY_SE_QUAD_XY: 304236.76900 4048365.61300
SECONDARY_SW_QUAD_XY: 298642.70400 4048494.72300
RMSE_XY: 1.02000
IMAGE_SOURCE: BLACK AND WHITE FILM
SOURCE_IMAGE_ID: NAPP 10547 256
SOURCE_IMAGE_DATE: 1998 08 17
SOURCE_IMAGE_ID: NAPP 10547 263
SOURCE_IMAGE_DATE: 1998 08 17
SOURCE_DEM_DATE: 1966 00 00
AGENCY: WESTERN MAPPING CENTER (WMC)
PRODUCER: SANBORN COLORADO, L.L.C.
PRODUCTION_SYSTEM: ORBIT OR_RECTIFY V.5.2
COMPRESSION: UNDEFINED
STANDARD_VERSION: 1996 12
METADATA_DATE: 2002 03 05
DATA_FILE_SIZE: 49542450
BYTE_COUNT: 6450
