FILENAME: 36119E24
QUADRANGLE_NAME: STOKES MOUNTAIN
QUADRANT: SW
WEST_LONGITUDE: -119 15 0.00000
EAST_LONGITUDE: -119 11 15.00000
NORTH_LATITUDE: 36 33 45.00000
SOUTH_LATITUDE: 36 30 0.00000
PRODUCTION_DATE: 2002 02 15
RASTER_ORDER: LEFT_RIGHT/TOP_BOTTOM
BAND_ORGANIZATION: SINGLE FILE
BAND_CONTENT: BLACK&WHITE
BAND_CONTENT: UNDEFINED
BAND_CONTENT: UNDEFINED
BITS_PER_PIXEL: 8
SAMPLES_AND_LINES: 6480 7710
HORIZONTAL_DATUM: NAD83
HORIZONTAL_COORDINATE_SYSTEM: UTM
COORDINATE_ZONE: 11
HORIZONTAL_UNITS: METERS
HORIZONTAL_RESOLUTION: 1.00000
SECONDARY_HORIZONTAL_DATUM: NAD27
XY_ORIGIN: 298080.00000 4049010.00000
SECONDARY_XY_ORIGIN: 298160.14000 4048811.62300
NATION: US
STATE: CA
NW_QUAD_CORNER_XY: 298647.55600 4048696.68700
NE_QUAD_CORNER_XY: 304241.48700 4048567.58000
SE_QUAD_CORNERY_XY: 304083.81800 4041633.31500
SW_QUAD_CORNER_XY: 298485.37600 4041762.33500
SECONDARY_NW_QUAD_XY: 298642.70400 4048494.72300
SECONDARY_NE_QUAD_XY: 304236.76900 4048365.61300
SECONDARY_SE_QUAD_XY: 304079.10400 4041431.51500
SECONDARY_SW_QUAD_XY: 298480.52700 4041560.53900
RMSE_XY: 1.52000
IMAGE_SOURCE: BLACK AND WHITE FILM
SOURCE_IMAGE_ID: NAPP 10566 42
SOURCE_IMAGE_DATE: 1999 07 30
SOURCE_DEM_DATE: 1966 00 00
AGENCY: WESTERN MAPPING CENTER (WMC)
PRODUCER: SANBORN COLORADO, L.L.C.
PRODUCTION_SYSTEM: ORBIT OR_RECTIFY V.5.2
COMPRESSION: UNDEFINED
STANDARD_VERSION: 1996 12
METADATA_DATE: 2002 02 20
DATA_FILE_SIZE: 49967280
BYTE_COUNT: 6480
