FILENAME: 36119E34
QUADRANGLE_NAME: ORANGE COVE SOUTH
QUADRANT: SW
WEST_LONGITUDE: -119 22 30.00000
EAST_LONGITUDE: -119 18 45.00000
NORTH_LATITUDE: 36 33 45.00000
SOUTH_LATITUDE: 36 30 0.00000
PRODUCTION_DATE: 2002 02 13
RASTER_ORDER: LEFT_RIGHT/TOP_BOTTOM
BAND_ORGANIZATION: SINGLE FILE
BAND_CONTENT: BLACK&WHITE
BAND_CONTENT: UNDEFINED
BAND_CONTENT: UNDEFINED
BITS_PER_PIXEL: 8
SAMPLES_AND_LINES: 6480 7710
HORIZONTAL_DATUM: NAD83
HORIZONTAL_COORDINATE_SYSTEM: UTM
COORDINATE_ZONE: 11
HORIZONTAL_UNITS: METERS
HORIZONTAL_RESOLUTION: 1.00000
SECONDARY_HORIZONTAL_DATUM: NAD27
XY_ORIGIN: 286890.00000 4049280.00000
SECONDARY_XY_ORIGIN: 286970.44100 4049081.43400
NATION: US
STATE: CA
NW_QUAD_CORNER_XY: 287459.48300 4048965.82800
NE_QUAD_CORNER_XY: 293053.55600 4048829.43600
SE_QUAD_CORNERY_XY: 292886.86300 4041894.99600
SW_QUAD_CORNER_XY: 287288.27800 4042031.29700
SECONDARY_NW_QUAD_XY: 287454.36100 4048763.87000
SECONDARY_NE_QUAD_XY: 293048.56800 4048627.47500
SECONDARY_SE_QUAD_XY: 292881.88000 4041693.20300
SECONDARY_SW_QUAD_XY: 287283.16000 4041829.50700
RMSE_XY: 0.78000
IMAGE_SOURCE: BLACK AND WHITE FILM
SOURCE_IMAGE_ID: NAPP 10547 197
SOURCE_IMAGE_DATE: 1998 08 17
SOURCE_DEM_DATE: 1966 00 00
AGENCY: WESTERN MAPPING CENTER (WMC)
PRODUCER: SANBORN COLORADO, L.L.C.
PRODUCTION_SYSTEM: ORBIT OR_RECTIFY V.5.2
COMPRESSION: UNDEFINED
STANDARD_VERSION: 1996 12
METADATA_DATE: 2002 02 14
DATA_FILE_SIZE: 49967280
BYTE_COUNT: 6480
