FILENAME: 36119E42
QUADRANGLE_NAME: REEDLEY
QUADRANT: NE
WEST_LONGITUDE: -119 26 15.00000
EAST_LONGITUDE: -119 22 30.00000
NORTH_LATITUDE: 36 37 30.00000
SOUTH_LATITUDE: 36 33 45.00000
PRODUCTION_DATE: 2002 02 13
RASTER_ORDER: LEFT_RIGHT/TOP_BOTTOM
BAND_ORGANIZATION: SINGLE FILE
BAND_CONTENT: BLACK&WHITE
BAND_CONTENT: UNDEFINED
BAND_CONTENT: UNDEFINED
BITS_PER_PIXEL: 8
SAMPLES_AND_LINES: 6480 7710
HORIZONTAL_DATUM: NAD83
HORIZONTAL_COORDINATE_SYSTEM: UTM
COORDINATE_ZONE: 11
HORIZONTAL_UNITS: METERS
HORIZONTAL_RESOLUTION: 1.00000
SECONDARY_HORIZONTAL_DATUM: NAD27
XY_ORIGIN: 281460.00000 4056360.00000
SECONDARY_XY_ORIGIN: 281540.60200 4056161.19000
NATION: US
STATE: CA
NW_QUAD_CORNER_XY: 282041.31500 4056040.54700
NE_QUAD_CORNER_XY: 287630.94200 4055900.41900
SE_QUAD_CORNERY_XY: 287459.48300 4048965.82800
SW_QUAD_CORNER_XY: 281865.33700 4049105.86300
SECONDARY_NW_QUAD_XY: 282036.05400 4055838.42400
SECONDARY_NE_QUAD_XY: 287625.81500 4055698.29300
SECONDARY_SE_QUAD_XY: 287454.36100 4048763.87000
SECONDARY_SW_QUAD_XY: 281860.07900 4048903.90800
RMSE_XY: 0.91000
IMAGE_SOURCE: BLACK AND WHITE FILM
SOURCE_IMAGE_ID: NAPP 10547 222
SOURCE_IMAGE_DATE: 1998 08 17
SOURCE_DEM_DATE: 1981 00 00
AGENCY: WESTERN MAPPING CENTER (WMC)
PRODUCER: SANBORN COLORADO, L.L.C.
PRODUCTION_SYSTEM: ORBIT OR_RECTIFY V.5.2
COMPRESSION: UNDEFINED
STANDARD_VERSION: 1996 12
METADATA_DATE: 2002 02 14
DATA_FILE_SIZE: 49967280
BYTE_COUNT: 6480
