FILENAME: 36119E41
QUADRANGLE_NAME: REEDLEY
QUADRANT: NW
WEST_LONGITUDE: -119 30 0.00000
EAST_LONGITUDE: -119 26 15.00000
NORTH_LATITUDE: 36 37 30.00000
SOUTH_LATITUDE: 36 33 45.00000
PRODUCTION_DATE: 2002 02 13
RASTER_ORDER: LEFT_RIGHT/TOP_BOTTOM
BAND_ORGANIZATION: SINGLE FILE
BAND_CONTENT: BLACK&WHITE
BAND_CONTENT: UNDEFINED
BAND_CONTENT: UNDEFINED
BITS_PER_PIXEL: 8
SAMPLES_AND_LINES: 6480 7710
HORIZONTAL_DATUM: NAD83
HORIZONTAL_COORDINATE_SYSTEM: UTM
COORDINATE_ZONE: 11
HORIZONTAL_UNITS: METERS
HORIZONTAL_RESOLUTION: 1.00000
SECONDARY_HORIZONTAL_DATUM: NAD27
XY_ORIGIN: 275880.00000 4056510.00000
SECONDARY_XY_ORIGIN: 275960.73800 4056311.08500
NATION: US
STATE: CA
NW_QUAD_CORNER_XY: 276451.61300 4056184.32100
NE_QUAD_CORNER_XY: 282041.31500 4056040.54700
SE_QUAD_CORNERY_XY: 281865.33700 4049105.86300
SW_QUAD_CORNER_XY: 276271.11400 4049249.54200
SECONDARY_NW_QUAD_XY: 276446.21600 4055982.20200
SECONDARY_NE_QUAD_XY: 282036.05400 4055838.42400
SECONDARY_SE_QUAD_XY: 281860.07900 4048903.90800
SECONDARY_SW_QUAD_XY: 276265.72200 4049047.59000
RMSE_XY: 0.86000
IMAGE_SOURCE: BLACK AND WHITE FILM
SOURCE_IMAGE_ID: NAPP 10547 286
SOURCE_IMAGE_DATE: 1998 08 17
SOURCE_IMAGE_ID: NAPP 10566 32
SOURCE_IMAGE_DATE: 1999 07 30
SOURCE_DEM_DATE: 1981 00 00
AGENCY: WESTERN MAPPING CENTER (WMC)
PRODUCER: SANBORN COLORADO, L.L.C.
PRODUCTION_SYSTEM: ORBIT OR_RECTIFY V.5.2
COMPRESSION: UNDEFINED
STANDARD_VERSION: 1996 12
METADATA_DATE: 2002 02 14
DATA_FILE_SIZE: 49967280
BYTE_COUNT: 6480
