FILENAME: 36119E53
QUADRANGLE_NAME: SELMA
QUADRANT: SE
WEST_LONGITUDE: -119 33 45.00000
EAST_LONGITUDE: -119 30 0.00000
NORTH_LATITUDE: 36 33 45.00000
SOUTH_LATITUDE: 36 30 0.00000
PRODUCTION_DATE: 2002 02 13
RASTER_ORDER: LEFT_RIGHT/TOP_BOTTOM
BAND_ORGANIZATION: SINGLE FILE
BAND_CONTENT: BLACK&WHITE
BAND_CONTENT: UNDEFINED
BAND_CONTENT: UNDEFINED
BITS_PER_PIXEL: 8
SAMPLES_AND_LINES: 6510 7710
HORIZONTAL_DATUM: NAD83
HORIZONTAL_COORDINATE_SYSTEM: UTM
COORDINATE_ZONE: 11
HORIZONTAL_UNITS: METERS
HORIZONTAL_RESOLUTION: 1.00000
SECONDARY_HORIZONTAL_DATUM: NAD27
XY_ORIGIN: 270090.00000 4049700.00000
SECONDARY_XY_ORIGIN: 270170.83500 4049501.21400
NATION: US
STATE: CA
NW_QUAD_CORNER_XY: 270676.81400 4049396.86500
NE_QUAD_CORNER_XY: 276271.11400 4049249.54200
SE_QUAD_CORNERY_XY: 276090.88200 4042314.82200
SW_QUAD_CORNER_XY: 270492.06800 4042462.04700
SECONDARY_NW_QUAD_XY: 270671.28700 4049194.91700
SECONDARY_NE_QUAD_XY: 276265.72200 4049047.59000
SECONDARY_SE_QUAD_XY: 276085.49400 4042113.03900
SECONDARY_SW_QUAD_XY: 270486.54500 4042260.26800
RMSE_XY: 0.83000
IMAGE_SOURCE: BLACK AND WHITE FILM
SOURCE_IMAGE_ID: NAPP 10547 194
SOURCE_IMAGE_DATE: 1998 08 17
SOURCE_IMAGE_ID: NAPP 10566 32
SOURCE_IMAGE_DATE: 1999 07 30
SOURCE_DEM_DATE: 1981 00 00
AGENCY: WESTERN MAPPING CENTER (WMC)
PRODUCER: SANBORN COLORADO, L.L.C.
PRODUCTION_SYSTEM: ORBIT OR_RECTIFY V.5.2
COMPRESSION: UNDEFINED
STANDARD_VERSION: 1996 12
METADATA_DATE: 2002 02 14
DATA_FILE_SIZE: 50198610
BYTE_COUNT: 6510
