FILENAME: 36119E54
QUADRANGLE_NAME: SELMA
QUADRANT: SW
WEST_LONGITUDE: -119 37 30.00000
EAST_LONGITUDE: -119 33 45.00000
NORTH_LATITUDE: 36 33 45.00000
SOUTH_LATITUDE: 36 30 0.00000
PRODUCTION_DATE: 2002 02 13
RASTER_ORDER: LEFT_RIGHT/TOP_BOTTOM
BAND_ORGANIZATION: SINGLE FILE
BAND_CONTENT: BLACK&WHITE
BAND_CONTENT: UNDEFINED
BAND_CONTENT: UNDEFINED
BITS_PER_PIXEL: 8
SAMPLES_AND_LINES: 6510 7710
HORIZONTAL_DATUM: NAD83
HORIZONTAL_COORDINATE_SYSTEM: UTM
COORDINATE_ZONE: 11
HORIZONTAL_UNITS: METERS
HORIZONTAL_RESOLUTION: 1.00000
SECONDARY_HORIZONTAL_DATUM: NAD27
XY_ORIGIN: 264480.00000 4049850.00000
SECONDARY_XY_ORIGIN: 264560.94800 4049651.18200
NATION: US
STATE: CA
NW_QUAD_CORNER_XY: 265082.43400 4049547.83200
NE_QUAD_CORNER_XY: 270676.81400 4049396.86500
SE_QUAD_CORNERY_XY: 270492.06800 4042462.04700
SW_QUAD_CORNER_XY: 264893.17200 4042612.91400
SECONDARY_NW_QUAD_XY: 265076.77200 4049345.88800
SECONDARY_NE_QUAD_XY: 270671.28700 4049194.91700
SECONDARY_SE_QUAD_XY: 270486.54500 4042260.26800
SECONDARY_SW_QUAD_XY: 264887.51500 4042411.13800
RMSE_XY: 0.61000
IMAGE_SOURCE: BLACK AND WHITE FILM
SOURCE_IMAGE_ID: NAPP 10547 291
SOURCE_IMAGE_DATE: 1998 08 17
SOURCE_DEM_DATE: 1981 00 00
AGENCY: WESTERN MAPPING CENTER (WMC)
PRODUCER: SANBORN COLORADO, L.L.C.
PRODUCTION_SYSTEM: ORBIT OR_RECTIFY V.5.2
COMPRESSION: UNDEFINED
STANDARD_VERSION: 1996 12
METADATA_DATE: 2002 02 14
DATA_FILE_SIZE: 50198610
BYTE_COUNT: 6510
