FILENAME: 36119E62
QUADRANGLE_NAME: CONEJO
QUADRANT: NE
WEST_LONGITUDE: -119 41 15.00000
EAST_LONGITUDE: -119 37 30.00000
NORTH_LATITUDE: 36 37 30.00000
SOUTH_LATITUDE: 36 33 45.00000
PRODUCTION_DATE: 2002 02 08
RASTER_ORDER: LEFT_RIGHT/TOP_BOTTOM
BAND_ORGANIZATION: SINGLE FILE
BAND_CONTENT: BLACK&WHITE
BAND_CONTENT: UNDEFINED
BAND_CONTENT: UNDEFINED
BITS_PER_PIXEL: 8
SAMPLES_AND_LINES: 6510 7740
HORIZONTAL_DATUM: NAD83
HORIZONTAL_COORDINATE_SYSTEM: UTM
COORDINATE_ZONE: 11
HORIZONTAL_UNITS: METERS
HORIZONTAL_RESOLUTION: 1.00000
SECONDARY_HORIZONTAL_DATUM: NAD27
XY_ORIGIN: 259080.00000 4056960.00000
SECONDARY_XY_ORIGIN: 259161.11800 4056760.98300
NATION: US
STATE: CA
NW_QUAD_CORNER_XY: 259682.03600 4056637.52300
NE_QUAD_CORNER_XY: 265271.97500 4056482.80800
SE_QUAD_CORNERY_XY: 265082.43400 4049547.83200
SW_QUAD_CORNER_XY: 259487.97200 4049702.44500
SECONDARY_NW_QUAD_XY: 259676.23400 4056435.41500
SECONDARY_NE_QUAD_XY: 265266.30900 4056280.69700
SECONDARY_SE_QUAD_XY: 265076.77200 4049345.88800
SECONDARY_SW_QUAD_XY: 259482.17500 4049500.50500
RMSE_XY: 0.77000
IMAGE_SOURCE: BLACK AND WHITE FILM
SOURCE_IMAGE_ID: NAPP 10547 145
SOURCE_IMAGE_DATE: 1998 08 17
SOURCE_DEM_DATE: 1963 00 00
AGENCY: WESTERN MAPPING CENTER (WMC)
PRODUCER: SANBORN COLORADO, L.L.C.
PRODUCTION_SYSTEM: ORBIT OR_RECTIFY V.5.2
COMPRESSION: UNDEFINED
STANDARD_VERSION: 1996 12
METADATA_DATE: 2002 02 08
DATA_FILE_SIZE: 50393910
BYTE_COUNT: 6510
