FILENAME: 36119E72
QUADRANGLE_NAME: CARUTHERS
QUADRANT: NE
WEST_LONGITUDE: -119 48 45.00000
EAST_LONGITUDE: -119 45 0.00000
NORTH_LATITUDE: 36 37 30.00000
SOUTH_LATITUDE: 36 33 45.00000
PRODUCTION_DATE: 2002 02 08
RASTER_ORDER: LEFT_RIGHT/TOP_BOTTOM
BAND_ORGANIZATION: SINGLE FILE
BAND_CONTENT: BLACK&WHITE
BAND_CONTENT: UNDEFINED
BAND_CONTENT: UNDEFINED
BITS_PER_PIXEL: 8
SAMPLES_AND_LINES: 6510 7710
HORIZONTAL_DATUM: NAD83
HORIZONTAL_COORDINATE_SYSTEM: UTM
COORDINATE_ZONE: 11
HORIZONTAL_UNITS: METERS
HORIZONTAL_RESOLUTION: 1.00000
SECONDARY_HORIZONTAL_DATUM: NAD27
XY_ORIGIN: 247890.00000 4057260.00000
SECONDARY_XY_ORIGIN: 247971.38500 4057060.98000
NATION: US
STATE: CA
NW_QUAD_CORNER_XY: 248501.90600 4056957.89800
NE_QUAD_CORNER_XY: 254092.01300 4056795.88700
SE_QUAD_CORNERY_XY: 253893.42700 4049860.70400
SW_QUAD_CORNER_XY: 248298.79500 4050022.60900
SECONDARY_NW_QUAD_XY: 248495.83400 4056755.79800
SECONDARY_NE_QUAD_XY: 254086.07700 4056593.78200
SECONDARY_SE_QUAD_XY: 253887.49400 4049658.76700
SECONDARY_SW_QUAD_XY: 248292.72800 4049820.67600
RMSE_XY: 0.90000
IMAGE_SOURCE: BLACK AND WHITE FILM
SOURCE_IMAGE_ID: NAPP 10547 91
SOURCE_IMAGE_DATE: 1998 08 17
SOURCE_DEM_DATE: 1963 00 00
AGENCY: WESTERN MAPPING CENTER (WMC)
PRODUCER: SANBORN COLORADO, L.L.C.
PRODUCTION_SYSTEM: ORBIT OR_RECTIFY V.5.2
COMPRESSION: UNDEFINED
STANDARD_VERSION: 1996 12
METADATA_DATE: 2002 02 08
DATA_FILE_SIZE: 50198610
BYTE_COUNT: 6510
