FILENAME: 36119E71
QUADRANGLE_NAME: CARUTHERS
QUADRANT: NW
WEST_LONGITUDE: -119 52 30.00000
EAST_LONGITUDE: -119 48 45.00000
NORTH_LATITUDE: 36 37 30.00000
SOUTH_LATITUDE: 36 33 45.00000
PRODUCTION_DATE: 2002 02 08
RASTER_ORDER: LEFT_RIGHT/TOP_BOTTOM
BAND_ORGANIZATION: SINGLE FILE
BAND_CONTENT: BLACK&WHITE
BAND_CONTENT: UNDEFINED
BAND_CONTENT: UNDEFINED
BITS_PER_PIXEL: 8
SAMPLES_AND_LINES: 6510 7740
HORIZONTAL_DATUM: NAD83
HORIZONTAL_COORDINATE_SYSTEM: UTM
COORDINATE_ZONE: 11
HORIZONTAL_UNITS: METERS
HORIZONTAL_RESOLUTION: 1.00000
SECONDARY_HORIZONTAL_DATUM: NAD27
XY_ORIGIN: 242310.00000 4057440.00000
SECONDARY_XY_ORIGIN: 242391.52100 4057241.01300
NATION: US
STATE: CA
NW_QUAD_CORNER_XY: 242911.71200 4057123.56000
NE_QUAD_CORNER_XY: 248501.90600 4056957.89800
SE_QUAD_CORNERY_XY: 248298.79500 4050022.60900
SW_QUAD_CORNER_XY: 242704.07700 4050188.16100
SECONDARY_NW_QUAD_XY: 242905.50500 4056921.46300
SECONDARY_NE_QUAD_XY: 248495.83400 4056755.79800
SECONDARY_SE_QUAD_XY: 248292.72800 4049820.67600
SECONDARY_SW_QUAD_XY: 242697.87500 4049986.23200
RMSE_XY: 0.74000
IMAGE_SOURCE: BLACK AND WHITE FILM
SOURCE_IMAGE_ID: NAPP 10547 84
SOURCE_IMAGE_DATE: 1998 08 17
SOURCE_DEM_DATE: 1963 00 00
AGENCY: WESTERN MAPPING CENTER (WMC)
PRODUCER: SANBORN COLORADO, L.L.C.
PRODUCTION_SYSTEM: ORBIT OR_RECTIFY V.5.2
COMPRESSION: UNDEFINED
STANDARD_VERSION: 1996 12
METADATA_DATE: 2002 02 08
DATA_FILE_SIZE: 50393910
BYTE_COUNT: 6510
