FILENAME: 36119E73
QUADRANGLE_NAME: CARUTHERS
QUADRANT: SE
WEST_LONGITUDE: -119 48 45.00000
EAST_LONGITUDE: -119 45 0.00000
NORTH_LATITUDE: 36 33 45.00000
SOUTH_LATITUDE: 36 30 0.00000
PRODUCTION_DATE: 2002 02 08
RASTER_ORDER: LEFT_RIGHT/TOP_BOTTOM
BAND_ORGANIZATION: SINGLE FILE
BAND_CONTENT: BLACK&WHITE
BAND_CONTENT: UNDEFINED
BAND_CONTENT: UNDEFINED
BITS_PER_PIXEL: 8
SAMPLES_AND_LINES: 6540 7710
HORIZONTAL_DATUM: NAD83
HORIZONTAL_COORDINATE_SYSTEM: UTM
COORDINATE_ZONE: 11
HORIZONTAL_UNITS: METERS
HORIZONTAL_RESOLUTION: 1.00000
SECONDARY_HORIZONTAL_DATUM: NAD27
XY_ORIGIN: 247680.00000 4050330.00000
SECONDARY_XY_ORIGIN: 247761.29700 4050131.12100
NATION: US
STATE: CA
NW_QUAD_CORNER_XY: 248298.79500 4050022.60900
NE_QUAD_CORNER_XY: 253893.42700 4049860.70400
SE_QUAD_CORNERY_XY: 253695.13300 4042925.57700
SW_QUAD_CORNER_XY: 248095.98500 4043087.37500
SECONDARY_NW_QUAD_XY: 248292.72800 4049820.67600
SECONDARY_NE_QUAD_XY: 253887.49400 4049658.76700
SECONDARY_SE_QUAD_XY: 253689.20600 4042723.80900
SECONDARY_SW_QUAD_XY: 248089.92300 4042885.61100
RMSE_XY: 0.88000
IMAGE_SOURCE: BLACK AND WHITE FILM
SOURCE_IMAGE_ID: NAPP 10547 89
SOURCE_IMAGE_DATE: 1998 08 17
SOURCE_DEM_DATE: 1963 00 00
AGENCY: WESTERN MAPPING CENTER (WMC)
PRODUCER: SANBORN COLORADO, L.L.C.
PRODUCTION_SYSTEM: ORBIT OR_RECTIFY V.5.2
COMPRESSION: UNDEFINED
STANDARD_VERSION: 1996 12
METADATA_DATE: 2002 02 08
DATA_FILE_SIZE: 50429940
BYTE_COUNT: 6540
