FILENAME: 36119E81
QUADRANGLE_NAME: RAISIN
QUADRANT: NW
WEST_LONGITUDE: -120 0 0.00000
EAST_LONGITUDE: -119 56 15.00000
NORTH_LATITUDE: 36 37 30.00000
SOUTH_LATITUDE: 36 33 45.00000
PRODUCTION_DATE: 2002 02 08
RASTER_ORDER: LEFT_RIGHT/TOP_BOTTOM
BAND_ORGANIZATION: SINGLE FILE
BAND_CONTENT: BLACK&WHITE
BAND_CONTENT: UNDEFINED
BAND_CONTENT: UNDEFINED
BITS_PER_PIXEL: 8
SAMPLES_AND_LINES: 6510 7740
HORIZONTAL_DATUM: NAD83
HORIZONTAL_COORDINATE_SYSTEM: UTM
COORDINATE_ZONE: 11
HORIZONTAL_UNITS: METERS
HORIZONTAL_RESOLUTION: 1.00000
SECONDARY_HORIZONTAL_DATUM: NAD27
XY_ORIGIN: 231120.00000 4057770.00000
SECONDARY_XY_ORIGIN: 231201.79200 4057571.08100
NATION: US
STATE: CA
NW_QUAD_CORNER_XY: 231731.05500 4057465.83200
NE_QUAD_CORNER_XY: 237321.42900 4057292.87100
SE_QUAD_CORNERY_XY: 237109.26900 4050357.36000
SW_QUAD_CORNER_XY: 231514.36900 4050530.20700
SECONDARY_NW_QUAD_XY: 231724.57800 4057263.74400
SECONDARY_NE_QUAD_XY: 237315.08700 4057090.77900
SECONDARY_SE_QUAD_XY: 237102.93200 4050155.43600
SECONDARY_SW_QUAD_XY: 231507.89700 4050328.28700
RMSE_XY: 0.66000
IMAGE_SOURCE: BLACK AND WHITE FILM
SOURCE_IMAGE_ID: NAPP 10547 26
SOURCE_IMAGE_DATE: 1998 08 17
SOURCE_DEM_DATE: 1963 00 00
AGENCY: WESTERN MAPPING CENTER (WMC)
PRODUCER: SANBORN COLORADO, L.L.C.
PRODUCTION_SYSTEM: ORBIT OR_RECTIFY V.5.2
COMPRESSION: UNDEFINED
STANDARD_VERSION: 1996 12
METADATA_DATE: 2002 02 08
DATA_FILE_SIZE: 50393910
BYTE_COUNT: 6510
