FILENAME: 36119E83
QUADRANGLE_NAME: RAISIN
QUADRANT: SE
WEST_LONGITUDE: -119 56 15.00000
EAST_LONGITUDE: -119 52 30.00000
NORTH_LATITUDE: 36 33 45.00000
SOUTH_LATITUDE: 36 30 0.00000
PRODUCTION_DATE: 2002 02 08
RASTER_ORDER: LEFT_RIGHT/TOP_BOTTOM
BAND_ORGANIZATION: SINGLE FILE
BAND_CONTENT: BLACK&WHITE
BAND_CONTENT: UNDEFINED
BAND_CONTENT: UNDEFINED
BITS_PER_PIXEL: 8
SAMPLES_AND_LINES: 6540 7740
HORIZONTAL_DATUM: NAD83
HORIZONTAL_COORDINATE_SYSTEM: UTM
COORDINATE_ZONE: 11
HORIZONTAL_UNITS: METERS
HORIZONTAL_RESOLUTION: 1.00000
SECONDARY_HORIZONTAL_DATUM: NAD27
XY_ORIGIN: 236490.00000 4050660.00000
SECONDARY_XY_ORIGIN: 236571.54100 4050461.13900
NATION: US
STATE: CA
NW_QUAD_CORNER_XY: 237109.26900 4050357.36000
NE_QUAD_CORNER_XY: 242704.07700 4050188.16100
SE_QUAD_CORNERY_XY: 242496.74800 4043252.81600
SW_QUAD_CORNER_XY: 236897.42200 4043421.90300
SECONDARY_NW_QUAD_XY: 237102.93200 4050155.43600
SECONDARY_NE_QUAD_XY: 242697.87500 4049986.23200
SECONDARY_SE_QUAD_XY: 242490.55100 4043051.05600
SECONDARY_SW_QUAD_XY: 236891.09000 4043220.14700
RMSE_XY: 0.67000
IMAGE_SOURCE: BLACK AND WHITE FILM
SOURCE_IMAGE_ID: NAPP 10547 31
SOURCE_IMAGE_DATE: 1998 08 17
SOURCE_DEM_DATE: 1963 00 00
AGENCY: WESTERN MAPPING CENTER (WMC)
PRODUCER: SANBORN COLORADO, L.L.C.
PRODUCTION_SYSTEM: ORBIT OR_RECTIFY V.5.2
COMPRESSION: UNDEFINED
STANDARD_VERSION: 1996 12
METADATA_DATE: 2002 02 08
DATA_FILE_SIZE: 50626140
BYTE_COUNT: 6540
