BEGIN_USGS_DOQ_HEADER *
QUADRANGLE_NAME "MIRAMONTE" 3.45 or 7.5-min. name*
QUADRANT NE quadrant indicator if cell size = 3.75-minutes*
WEST_LONGITUDE -119 3 45.000 signed deg min sec SDDD MM SS.SSS*
EAST_LONGITUDE -119 0 0.000 signed deg min sec SDDD MM SS.SSS*
NORTH_LATITUDE 36 45 0.000 signed deg min sec SDDD MM SS.SSS*
SOUTH_LATITUDE 36 41 15.000 signed deg min sec SDDD MM SS.SSS*
PRODUCTION_DATE 1996 12 19 yyyy mm dd*
RASTER_ORDER LEFT_RIGHT/TOP_BOTTOM video display order*
BAND_ORGANIZATION "SINGLE FILE" single file or BSQ, or BIL or BIP*
BAND_CONTENT BLACK&WHITE black&white or red green blue*
BITS_PER_PIXEL 8 radiometric resolution*
SAMPLES_AND_LINES 6417 7659 number of columns and rows*
HORIZONTAL_DATUM NAD83 primary horizontal datum*
HORIZONTAL_COORDINATE_SYSTEM UTM *
COORDINATE_ZONE 11 coordinate system zone number*
HORIZONTAL_UNITS METERS coordinate system units*
HORIZONTAL_RESOLUTION 1.00 pixel horiz. ground sample distance*
SECONDARY_HORIZONTAL_DATUM NAD27 secondary horizontal datum*
XY_ORIGIN 315341.000 4069423.000 coord. of upper left pixel pri. datum*
SECONDARY_XY_ORIGIN 315421.050 4069224.543 coord upper left pixel sec datum*
NATION US nation code*
STATE CA state fip code*
NW_QUAD_CORNER_XY 315876.409 4069122.975 XY coords. of pri. NW quad corner*
NE_QUAD_CORNER_XY 321456.571 4069004.560 XY coords. of pri. NE quad corner*
SE_QUAD_CORNER_XY 321311.793 4062070.346 XY coords. of pri. SE quad corner*
SW_QUAD_CORNER_XY 315727.101 4062188.684 XY coords. of pri. SW quad corner*
SECONDARY_NW_QUAD_XY 315871.950 4068920.501 XY coords. - sec. NW quad cor.*
SECONDARY_NE_QUAD_XY 321452.247 4068802.083 XY coords. - sec. NE quad cor.*
SECONDARY_SE_QUAD_XY 321307.473 4061868.035 XY coords. - sec. SE quad cor.*
SECONDARY_SW_QUAD_XY 315722.646 4061986.376 XY coords. - sec. SW quad cor.*
RMSE_XY 2.80 doq horiz. accuracy*
IMAGE_SOURCE "BLACK AND WHITE FILM" b&w, cir, natural color, other*
SOURCE_IMAGE_ID "NAPP 6314 104" source image id*
SOURCE_IMAGE_DATE 1993 9 29 source image date as yyyy mm dd*
SOURCE_DEM_DATE 1996 12 19 source dem date yyyy mm dd*
AGENCY "WESTERN MAPPING CENTER (WMC)" oversight agency*
PRODUCER "Science Applications International" producer/contractor*
PRODUCTION_SYSTEM "GIS/MAGIC" production system*
STANDARD_VERSION 1996 12 version of DOQ standard*
METADATA_DATE 1997 10 27 date created or changed, yyyy mm dd*
DATA_FILE_SIZE 49154220 data set size in bytes*
BYTE_COUNT 6417 header byte count* * * * * * * * * * * * * * * * * * * * * * * * * * * * * * * * * * * * * *
END_USGS_HEADER *
