BEGIN_USGS_DOQ_HEADER *
QUADRANGLE_NAME "MIRAMONTE" *
QUADRANT NW *
WEST_LONGITUDE -119 7 30.000 *
EAST_LONGITUDE -119 3 45.000 *
NORTH_LATITUDE 36 45 0.000 *
SOUTH_LATITUDE 36 41 15.000 *
PRODUCTION_DATE 2001 9 17 *
RASTER_ORDER LEFT_RIGHT/TOP_BOTTOM *
BAND_ORGANIZATION "SINGLE FILE" *
BAND_CONTENT BLACK&WHITE *
BITS_PER_PIXEL 8 *
SAMPLES_AND_LINES 6419 7660 *
HORIZONTAL_DATUM NAD83 *
HORIZONTAL_COORDINATE_SYSTEM UTM *
COORDINATE_ZONE 11 *
HORIZONTAL_UNITS METERS *
HORIZONTAL_RESOLUTION 1.0 *
SECONDARY_HORIZONTAL_DATUM NAD27 *
XY_ORIGIN 309757.694 4069545.039 *
SECONDARY_XY_ORIGIN 309837.822 4069346.487 *
NATION US *
STATE CA *
NW_QUAD_CORNER_XY 310296.184 4069245.039 *
NE_QUAD_CORNER_XY 315876.409 4069122.976 *
SE_QUAD_CORNER_XY 315727.101 4062188.684 *
SW_QUAD_CORNER_XY 310142.346 4062310.668 *
SECONDARY_NW_QUAD_XY 310291.593 4069042.567 *
SECONDARY_NE_QUAD_XY 315871.953 4068920.501 *
SECONDARY_SE_QUAD_XY 315722.649 4061986.375 *
SECONDARY_SW_QUAD_XY 310137.759 4062108.362 *
RMSE_XY 1.07 *
IMAGE_SOURCE "BLACK AND WHITE FILM" *
SOURCE_IMAGE_ID "NAPP 10549 191" *
SOURCE_IMAGE_DATE 1998 8 20 *
SOURCE_IMAGE_ID "NAPP 10549 192" *
SOURCE_IMAGE_DATE 1998 8 20 *
SOURCE_IMAGE_ID "NAPP 10549 190" *
SOURCE_IMAGE_DATE 1998 8 20 *
SOURCE_IMAGE_ID "NAPP 10547 268" *
SOURCE_IMAGE_DATE 1998 8 17 *
SOURCE_IMAGE_ID "NAPP 10549 205" *
SOURCE_IMAGE_DATE 1998 8 20 *
SOURCE_IMAGE_ID "NAPP 10549 206" *
SOURCE_IMAGE_DATE 1998 8 20 *
SOURCE_IMAGE_ID "NAPP 10549 207" *
SOURCE_IMAGE_DATE 1998 8 20 *
SOURCE_DEM_DATE 2000 0 0 *
AGENCY "WESTERN MAPPING CENTER (WMC)" *
PRODUCER "USDA FS GEOSPATIAL SERVICE AND TECHNOLOGY CENTER" *
PRODUCTION_SYSTEM "ORBIT OR_RECTIFY V.5.2" *
STANDARD_VERSION 1996 12 *
METADATA_DATE 2001 9 17 *
DATA_FILE_SIZE 49175959 *
BYTE_COUNT 6419 * * * * * * * * * * * * * * * * * * * * * * * * * *
END_USGS_HEADER *
