BEGIN_USGS_DOQ_HEADER *
QUADRANGLE_NAME "MIRAMONTE" *
QUADRANT SE *
WEST_LONGITUDE -119 3 45.000 *
EAST_LONGITUDE -119 0 0.000 *
NORTH_LATITUDE 36 41 15.000 *
SOUTH_LATITUDE 36 37 30.000 *
PRODUCTION_DATE 2001 9 17 *
RASTER_ORDER LEFT_RIGHT/TOP_BOTTOM *
BAND_ORGANIZATION "SINGLE FILE" *
BAND_CONTENT BLACK&WHITE *
BITS_PER_PIXEL 8 *
SAMPLES_AND_LINES 6418 7657 *
HORIZONTAL_DATUM NAD83 *
HORIZONTAL_COORDINATE_SYSTEM UTM *
COORDINATE_ZONE 11 *
HORIZONTAL_UNITS METERS *
HORIZONTAL_RESOLUTION 1.0 *
SECONDARY_HORIZONTAL_DATUM NAD27 *
XY_ORIGIN 315193.645 4062488.684 *
SECONDARY_XY_ORIGIN 315273.636 4062290.352 *
NATION US *
STATE CA *
NW_QUAD_CORNER_XY 315727.101 4062188.684 *
NE_QUAD_CORNER_XY 321311.793 4062070.346 *
SE_QUAD_CORNER_XY 321167.228 4055136.196 *
SW_QUAD_CORNER_XY 315578.013 4055254.456 *
SECONDARY_NW_QUAD_XY 315722.649 4061986.375 *
SECONDARY_NE_QUAD_XY 321307.476 4061868.034 *
SECONDARY_SE_QUAD_XY 321162.915 4054934.051 *
SECONDARY_SW_QUAD_XY 315573.565 4055052.314 *
RMSE_XY 1.07 *
IMAGE_SOURCE "BLACK AND WHITE FILM" *
SOURCE_IMAGE_ID "NAPP 10549 204" *
SOURCE_IMAGE_DATE 1998 8 20 *
SOURCE_IMAGE_ID "NAPP 10549 203" *
SOURCE_IMAGE_DATE 1998 8 20 *
SOURCE_IMAGE_ID "NAPP 10549 205" *
SOURCE_IMAGE_DATE 1998 8 20 *
SOURCE_IMAGE_ID "NAPP 10549 194" *
SOURCE_IMAGE_DATE 1998 8 20 *
SOURCE_IMAGE_ID "NAPP 10549 193" *
SOURCE_IMAGE_DATE 1998 8 20 *
SOURCE_IMAGE_ID "NAPP 10549 192" *
SOURCE_IMAGE_DATE 1998 8 20 *
SOURCE_IMAGE_ID "NAPP 10566 82" *
SOURCE_IMAGE_DATE 1999 3 30 *
SOURCE_IMAGE_ID "NAPP 10566 81" *
SOURCE_IMAGE_DATE 1999 3 30 *
SOURCE_IMAGE_ID "NAPP 10566 80" *
SOURCE_IMAGE_DATE 1999 3 30 *
SOURCE_DEM_DATE 2000 0 0 *
AGENCY "WESTERN MAPPING CENTER (WMC)" *
PRODUCER "USDA FS GEOSPATIAL SERVICE AND TECHNOLOGY CENTER" *
PRODUCTION_SYSTEM "ORBIT OR_RECTIFY V.5.2" *
STANDARD_VERSION 1996 12 *
METADATA_DATE 2001 9 17 *
DATA_FILE_SIZE 49149044 *
BYTE_COUNT 6418 * * * * * * * * * * * * * * * * * * * * * *
END_USGS_HEADER *
